BEGIN:VCALENDAR
VERSION:2.0
PRODID:-//Orston Parish Council - ECPv6.15.18//NONSGML v1.0//EN
CALSCALE:GREGORIAN
METHOD:PUBLISH
X-WR-CALNAME:Orston Parish Council
X-ORIGINAL-URL:https://orstonparish.co.uk
X-WR-CALDESC:Events for Orston Parish Council
REFRESH-INTERVAL;VALUE=DURATION:PT1H
X-Robots-Tag:noindex
X-PUBLISHED-TTL:PT1H
BEGIN:VTIMEZONE
TZID:Europe/London
BEGIN:DAYLIGHT
TZOFFSETFROM:+0000
TZOFFSETTO:+0100
TZNAME:BST
DTSTART:20240331T010000
END:DAYLIGHT
BEGIN:STANDARD
TZOFFSETFROM:+0100
TZOFFSETTO:+0000
TZNAME:GMT
DTSTART:20241027T010000
END:STANDARD
BEGIN:DAYLIGHT
TZOFFSETFROM:+0000
TZOFFSETTO:+0100
TZNAME:BST
DTSTART:20250330T010000
END:DAYLIGHT
BEGIN:STANDARD
TZOFFSETFROM:+0100
TZOFFSETTO:+0000
TZNAME:GMT
DTSTART:20251026T010000
END:STANDARD
BEGIN:DAYLIGHT
TZOFFSETFROM:+0000
TZOFFSETTO:+0100
TZNAME:BST
DTSTART:20260329T010000
END:DAYLIGHT
BEGIN:STANDARD
TZOFFSETFROM:+0100
TZOFFSETTO:+0000
TZNAME:GMT
DTSTART:20261025T010000
END:STANDARD
END:VTIMEZONE
BEGIN:VEVENT
DTSTART;TZID=Europe/London:20250318T171500
DTEND;TZID=Europe/London:20250318T181500
DTSTAMP:20260421T072721
CREATED:20240806T145757Z
LAST-MODIFIED:20240806T145757Z
UID:3525-1742318100-1742321700@orstonparish.co.uk
SUMMARY:Core Strength Pilates
DESCRIPTION:
URL:https://orstonparish.co.uk/event/core-strength-pilates-33
LOCATION:Village Hall
CATEGORIES:Regular Activities
ORGANIZER;CN="Amanda Marshall":MAILTO:corestrengthpilates@hotmail.com
END:VEVENT
BEGIN:VEVENT
DTSTART;TZID=Europe/London:20250318T132500
DTEND;TZID=Europe/London:20250318T141000
DTSTAMP:20260421T072721
CREATED:20250217T165650Z
LAST-MODIFIED:20250217T165650Z
UID:4881-1742304300-1742307000@orstonparish.co.uk
SUMMARY:Mobile Library
DESCRIPTION:
URL:https://orstonparish.co.uk/event/mobile-library-13
LOCATION:Church Green
CATEGORIES:Regular Activities
ORGANIZER;CN="Inspire":MAILTO:southwell.library@inspireculture.org.uk
END:VEVENT
BEGIN:VEVENT
DTSTART;TZID=Europe/London:20250318T093000
DTEND;TZID=Europe/London:20250318T133000
DTSTAMP:20260421T072721
CREATED:20240806T091853Z
LAST-MODIFIED:20240806T091853Z
UID:3372-1742290200-1742304600@orstonparish.co.uk
SUMMARY:Orston Walkers
DESCRIPTION:
URL:https://orstonparish.co.uk/event/orston-walkers-15
LOCATION:Village Hall
CATEGORIES:Regular Activities
ORGANIZER;CN="Pauline Fazackerley":MAILTO:paulinefaz@live.com
END:VEVENT
BEGIN:VEVENT
DTSTART;TZID=Europe/London:20250316T090000
DTEND;TZID=Europe/London:20250316T100000
DTSTAMP:20260421T072721
CREATED:20240805T171423Z
LAST-MODIFIED:20240805T171423Z
UID:3348-1742115600-1742119200@orstonparish.co.uk
SUMMARY:Holy Communion
DESCRIPTION:
URL:https://orstonparish.co.uk/event/holy-communion-32
LOCATION:St Mary’s Church\, Orston
CATEGORIES:Regular Activities
ORGANIZER;CN="Julian Humpheson":MAILTO:juleshum@gmail.com
END:VEVENT
BEGIN:VEVENT
DTSTART;TZID=Europe/London:20250314T100000
DTEND;TZID=Europe/London:20250314T120000
DTSTAMP:20260421T072721
CREATED:20240805T165502Z
LAST-MODIFIED:20240805T165518Z
UID:3210-1741946400-1741953600@orstonparish.co.uk
SUMMARY:Coffee Morning
DESCRIPTION:
URL:https://orstonparish.co.uk/event/coffee-morning-7
LOCATION:Village Hall
CATEGORIES:Regular Activities
ORGANIZER;CN="Maria Nicholas":MAILTO:marianicho@gmail.com
END:VEVENT
BEGIN:VEVENT
DTSTART;TZID=Europe/London:20250313T193000
DTEND;TZID=Europe/London:20250313T220000
DTSTAMP:20260421T072721
CREATED:20240805T112129Z
LAST-MODIFIED:20240805T112129Z
UID:3047-1741894200-1741903200@orstonparish.co.uk
SUMMARY:Bridge
DESCRIPTION:
URL:https://orstonparish.co.uk/event/bridge-32
LOCATION:Durham Ox
CATEGORIES:Regular Activities
END:VEVENT
BEGIN:VEVENT
DTSTART;TZID=Europe/London:20250313T184500
DTEND;TZID=Europe/London:20250313T200000
DTSTAMP:20260421T072721
CREATED:20240806T142556Z
LAST-MODIFIED:20240806T142556Z
UID:3451-1741891500-1741896000@orstonparish.co.uk
SUMMARY:Orston Village Choir
DESCRIPTION:
URL:https://orstonparish.co.uk/event/orston-village-choir-28
LOCATION:Thomas Cranmer Centre\, Aslockton
CATEGORIES:Regular Activities
ORGANIZER;CN="Ali Burns":MAILTO:ali.burns@yahoo.co.uk
END:VEVENT
BEGIN:VEVENT
DTSTART;TZID=Europe/London:20250313T093000
DTEND;TZID=Europe/London:20250313T103000
DTSTAMP:20260421T072721
CREATED:20240806T150704Z
LAST-MODIFIED:20240806T150704Z
UID:3633-1741858200-1741861800@orstonparish.co.uk
SUMMARY:Core Strength Pilates
DESCRIPTION:
URL:https://orstonparish.co.uk/event/core-strength-pilates-126
LOCATION:Village Hall
CATEGORIES:Regular Activities
ORGANIZER;CN="Amanda Marshall":MAILTO:corestrengthpilates@hotmail.com
END:VEVENT
BEGIN:VEVENT
DTSTART;TZID=Europe/London:20250312T193000
DTEND;TZID=Europe/London:20250312T213000
DTSTAMP:20260421T072721
CREATED:20240805T105508Z
LAST-MODIFIED:20240805T105508Z
UID:2991-1741807800-1741815000@orstonparish.co.uk
SUMMARY:Orston and Thoroton Women's Institute
DESCRIPTION:
URL:https://orstonparish.co.uk/event/orston-and-thoroton-womens-institute-7
LOCATION:Village Hall
CATEGORIES:Regular Activities
END:VEVENT
BEGIN:VEVENT
DTSTART;TZID=Europe/London:20250311T200000
DTEND;TZID=Europe/London:20250311T220000
DTSTAMP:20260421T072721
CREATED:20240805T103355Z
LAST-MODIFIED:20240805T103355Z
UID:2968-1741723200-1741730400@orstonparish.co.uk
SUMMARY:Badminton Club
DESCRIPTION:
URL:https://orstonparish.co.uk/event/badminton-club-32
LOCATION:Village Hall
CATEGORIES:Regular Activities
ORGANIZER;CN="Roland Daniels":MAILTO:roland.daniels153@gmail.com
END:VEVENT
BEGIN:VEVENT
DTSTART;TZID=Europe/London:20250311T183000
DTEND;TZID=Europe/London:20250311T193000
DTSTAMP:20260421T072721
CREATED:20240806T150312Z
LAST-MODIFIED:20240806T150312Z
UID:3580-1741717800-1741721400@orstonparish.co.uk
SUMMARY:Core Strength Pilates
DESCRIPTION:
URL:https://orstonparish.co.uk/event/core-strength-pilates-79
LOCATION:Village Hall
CATEGORIES:Regular Activities
ORGANIZER;CN="Amanda Marshall":MAILTO:corestrengthpilates@hotmail.com
END:VEVENT
BEGIN:VEVENT
DTSTART;TZID=Europe/London:20250311T171500
DTEND;TZID=Europe/London:20250311T181500
DTSTAMP:20260421T072721
CREATED:20240806T145754Z
LAST-MODIFIED:20240806T145754Z
UID:3524-1741713300-1741716900@orstonparish.co.uk
SUMMARY:Core Strength Pilates
DESCRIPTION:
URL:https://orstonparish.co.uk/event/core-strength-pilates-32
LOCATION:Village Hall
CATEGORIES:Regular Activities
ORGANIZER;CN="Amanda Marshall":MAILTO:corestrengthpilates@hotmail.com
END:VEVENT
BEGIN:VEVENT
DTSTART;TZID=Europe/London:20250309T090000
DTEND;TZID=Europe/London:20250309T100000
DTSTAMP:20260421T072721
CREATED:20240805T171420Z
LAST-MODIFIED:20240805T171420Z
UID:3347-1741510800-1741514400@orstonparish.co.uk
SUMMARY:Holy Communion
DESCRIPTION:
URL:https://orstonparish.co.uk/event/holy-communion-31
LOCATION:St Helena Church\, Thoroton
CATEGORIES:Regular Activities
ORGANIZER;CN="Julian Humpheson":MAILTO:juleshum@gmail.com
END:VEVENT
BEGIN:VEVENT
DTSTART;TZID=Europe/London:20250306T193000
DTEND;TZID=Europe/London:20250306T220000
DTSTAMP:20260421T072721
CREATED:20240805T112127Z
LAST-MODIFIED:20240805T112127Z
UID:3046-1741289400-1741298400@orstonparish.co.uk
SUMMARY:Bridge
DESCRIPTION:
URL:https://orstonparish.co.uk/event/bridge-31
LOCATION:Durham Ox
CATEGORIES:Regular Activities
END:VEVENT
BEGIN:VEVENT
DTSTART;TZID=Europe/London:20250306T184500
DTEND;TZID=Europe/London:20250306T200000
DTSTAMP:20260421T072721
CREATED:20240806T142552Z
LAST-MODIFIED:20240806T142552Z
UID:3450-1741286700-1741291200@orstonparish.co.uk
SUMMARY:Orston Village Choir
DESCRIPTION:
URL:https://orstonparish.co.uk/event/orston-village-choir-27
LOCATION:Thomas Cranmer Centre\, Aslockton
CATEGORIES:Regular Activities
ORGANIZER;CN="Ali Burns":MAILTO:ali.burns@yahoo.co.uk
END:VEVENT
BEGIN:VEVENT
DTSTART;TZID=Europe/London:20250306T093000
DTEND;TZID=Europe/London:20250306T103000
DTSTAMP:20260421T072721
CREATED:20240806T150702Z
LAST-MODIFIED:20240806T150702Z
UID:3632-1741253400-1741257000@orstonparish.co.uk
SUMMARY:Core Strength Pilates
DESCRIPTION:
URL:https://orstonparish.co.uk/event/core-strength-pilates-125
LOCATION:Village Hall
CATEGORIES:Regular Activities
ORGANIZER;CN="Amanda Marshall":MAILTO:corestrengthpilates@hotmail.com
END:VEVENT
BEGIN:VEVENT
DTSTART;TZID=Europe/London:20250304T200000
DTEND;TZID=Europe/London:20250304T220000
DTSTAMP:20260421T072721
CREATED:20240805T103352Z
LAST-MODIFIED:20240805T103352Z
UID:2967-1741118400-1741125600@orstonparish.co.uk
SUMMARY:Badminton Club
DESCRIPTION:
URL:https://orstonparish.co.uk/event/badminton-club-31
LOCATION:Village Hall
CATEGORIES:Regular Activities
ORGANIZER;CN="Roland Daniels":MAILTO:roland.daniels153@gmail.com
END:VEVENT
BEGIN:VEVENT
DTSTART;TZID=Europe/London:20250304T183000
DTEND;TZID=Europe/London:20250304T193000
DTSTAMP:20260421T072721
CREATED:20240806T150309Z
LAST-MODIFIED:20240806T150309Z
UID:3579-1741113000-1741116600@orstonparish.co.uk
SUMMARY:Core Strength Pilates
DESCRIPTION:
URL:https://orstonparish.co.uk/event/core-strength-pilates-78
LOCATION:Village Hall
CATEGORIES:Regular Activities
ORGANIZER;CN="Amanda Marshall":MAILTO:corestrengthpilates@hotmail.com
END:VEVENT
BEGIN:VEVENT
DTSTART;TZID=Europe/London:20250304T171500
DTEND;TZID=Europe/London:20250304T181500
DTSTAMP:20260421T072721
CREATED:20240806T145751Z
LAST-MODIFIED:20240806T145751Z
UID:3523-1741108500-1741112100@orstonparish.co.uk
SUMMARY:Core Strength Pilates
DESCRIPTION:
URL:https://orstonparish.co.uk/event/core-strength-pilates-31
LOCATION:Village Hall
CATEGORIES:Regular Activities
ORGANIZER;CN="Amanda Marshall":MAILTO:corestrengthpilates@hotmail.com
END:VEVENT
BEGIN:VEVENT
DTSTART;TZID=Europe/London:20250304T093000
DTEND;TZID=Europe/London:20250304T133000
DTSTAMP:20260421T072721
CREATED:20240806T091849Z
LAST-MODIFIED:20240806T091849Z
UID:3371-1741080600-1741095000@orstonparish.co.uk
SUMMARY:Orston Walkers
DESCRIPTION:
URL:https://orstonparish.co.uk/event/orston-walkers-14
LOCATION:Village Hall
CATEGORIES:Regular Activities
ORGANIZER;CN="Pauline Fazackerley":MAILTO:paulinefaz@live.com
END:VEVENT
BEGIN:VEVENT
DTSTART;TZID=Europe/London:20250302T090000
DTEND;TZID=Europe/London:20250302T100000
DTSTAMP:20260421T072721
CREATED:20240805T171414Z
LAST-MODIFIED:20240805T171414Z
UID:3346-1740906000-1740909600@orstonparish.co.uk
SUMMARY:Holy Communion
DESCRIPTION:
URL:https://orstonparish.co.uk/event/holy-communion-30
LOCATION:St John of Beverley Church (Whatton)\, Whatton
CATEGORIES:Regular Activities
ORGANIZER;CN="Julian Humpheson":MAILTO:juleshum@gmail.com
END:VEVENT
BEGIN:VEVENT
DTSTART;TZID=Europe/London:20250301T110000
DTEND;TZID=Europe/London:20250301T140000
DTSTAMP:20260421T072721
CREATED:20250122T171628Z
LAST-MODIFIED:20250122T171628Z
UID:4758-1740826800-1740837600@orstonparish.co.uk
SUMMARY:Used Books\, Toys and Jigsaws Sale
DESCRIPTION:
URL:https://orstonparish.co.uk/event/used-books-toys-and-jigsaws-sale-2
CATEGORIES:Local Events
END:VEVENT
BEGIN:VEVENT
DTSTART;TZID=Europe/London:20250227T193000
DTEND;TZID=Europe/London:20250227T220000
DTSTAMP:20260421T072721
CREATED:20240805T112123Z
LAST-MODIFIED:20240805T112123Z
UID:3045-1740684600-1740693600@orstonparish.co.uk
SUMMARY:Bridge
DESCRIPTION:
URL:https://orstonparish.co.uk/event/bridge-30
LOCATION:Durham Ox
CATEGORIES:Regular Activities
END:VEVENT
BEGIN:VEVENT
DTSTART;TZID=Europe/London:20250227T184500
DTEND;TZID=Europe/London:20250227T200000
DTSTAMP:20260421T072721
CREATED:20240806T142549Z
LAST-MODIFIED:20240806T142549Z
UID:3449-1740681900-1740686400@orstonparish.co.uk
SUMMARY:Orston Village Choir
DESCRIPTION:
URL:https://orstonparish.co.uk/event/orston-village-choir-26
LOCATION:Thomas Cranmer Centre\, Aslockton
CATEGORIES:Regular Activities
ORGANIZER;CN="Ali Burns":MAILTO:ali.burns@yahoo.co.uk
END:VEVENT
BEGIN:VEVENT
DTSTART;TZID=Europe/London:20250227T093000
DTEND;TZID=Europe/London:20250227T103000
DTSTAMP:20260421T072721
CREATED:20240806T150658Z
LAST-MODIFIED:20240806T150658Z
UID:3631-1740648600-1740652200@orstonparish.co.uk
SUMMARY:Core Strength Pilates
DESCRIPTION:
URL:https://orstonparish.co.uk/event/core-strength-pilates-124
LOCATION:Village Hall
CATEGORIES:Regular Activities
ORGANIZER;CN="Amanda Marshall":MAILTO:corestrengthpilates@hotmail.com
END:VEVENT
BEGIN:VEVENT
DTSTART;TZID=Europe/London:20250226T190000
DTEND;TZID=Europe/London:20250226T190000
DTSTAMP:20260421T072721
CREATED:20250221T120853Z
LAST-MODIFIED:20250302T121021Z
UID:4913-1740596400-1740596400@orstonparish.co.uk
SUMMARY:Parish Council Meeting
DESCRIPTION:This meeting will be held at Village Hall. Members of the public are welcome to attend; please see the agenda for more details.
URL:https://orstonparish.co.uk/event/parish-council-meeting-18
LOCATION:Village Hall
CATEGORIES:Parish Council Meetings
END:VEVENT
BEGIN:VEVENT
DTSTART;TZID=Europe/London:20250225T200000
DTEND;TZID=Europe/London:20250225T220000
DTSTAMP:20260421T072721
CREATED:20240805T103348Z
LAST-MODIFIED:20240805T103348Z
UID:2966-1740513600-1740520800@orstonparish.co.uk
SUMMARY:Badminton Club
DESCRIPTION:
URL:https://orstonparish.co.uk/event/badminton-club-30
LOCATION:Village Hall
CATEGORIES:Regular Activities
ORGANIZER;CN="Roland Daniels":MAILTO:roland.daniels153@gmail.com
END:VEVENT
BEGIN:VEVENT
DTSTART;TZID=Europe/London:20250225T183000
DTEND;TZID=Europe/London:20250225T193000
DTSTAMP:20260421T072721
CREATED:20240806T150302Z
LAST-MODIFIED:20240806T150302Z
UID:3578-1740508200-1740511800@orstonparish.co.uk
SUMMARY:Core Strength Pilates
DESCRIPTION:
URL:https://orstonparish.co.uk/event/core-strength-pilates-77
LOCATION:Village Hall
CATEGORIES:Regular Activities
ORGANIZER;CN="Amanda Marshall":MAILTO:corestrengthpilates@hotmail.com
END:VEVENT
BEGIN:VEVENT
DTSTART;TZID=Europe/London:20250225T171500
DTEND;TZID=Europe/London:20250225T181500
DTSTAMP:20260421T072721
CREATED:20240806T145714Z
LAST-MODIFIED:20240806T145714Z
UID:3522-1740503700-1740507300@orstonparish.co.uk
SUMMARY:Core Strength Pilates
DESCRIPTION:
URL:https://orstonparish.co.uk/event/core-strength-pilates-30
LOCATION:Village Hall
CATEGORIES:Regular Activities
ORGANIZER;CN="Amanda Marshall":MAILTO:corestrengthpilates@hotmail.com
END:VEVENT
BEGIN:VEVENT
DTSTART;TZID=Europe/London:20250223T190000
DTEND;TZID=Europe/London:20250223T210000
DTSTAMP:20260421T072721
CREATED:20240806T135157Z
LAST-MODIFIED:20240806T135157Z
UID:3392-1740337200-1740344400@orstonparish.co.uk
SUMMARY:Quiz Night
DESCRIPTION:
URL:https://orstonparish.co.uk/event/quiz-night-7
LOCATION:Durham Ox
CATEGORIES:Regular Activities
ORGANIZER;CN="Durham Ox":MAILTO:thedurhamoxorston@gmail.com
END:VEVENT
END:VCALENDAR