BEGIN:VCALENDAR
VERSION:2.0
PRODID:-//Orston Parish Council - ECPv6.15.18//NONSGML v1.0//EN
CALSCALE:GREGORIAN
METHOD:PUBLISH
X-WR-CALNAME:Orston Parish Council
X-ORIGINAL-URL:https://orstonparish.co.uk
X-WR-CALDESC:Events for Orston Parish Council
REFRESH-INTERVAL;VALUE=DURATION:PT1H
X-Robots-Tag:noindex
X-PUBLISHED-TTL:PT1H
BEGIN:VTIMEZONE
TZID:Europe/London
BEGIN:DAYLIGHT
TZOFFSETFROM:+0000
TZOFFSETTO:+0100
TZNAME:BST
DTSTART:20240331T010000
END:DAYLIGHT
BEGIN:STANDARD
TZOFFSETFROM:+0100
TZOFFSETTO:+0000
TZNAME:GMT
DTSTART:20241027T010000
END:STANDARD
BEGIN:DAYLIGHT
TZOFFSETFROM:+0000
TZOFFSETTO:+0100
TZNAME:BST
DTSTART:20250330T010000
END:DAYLIGHT
BEGIN:STANDARD
TZOFFSETFROM:+0100
TZOFFSETTO:+0000
TZNAME:GMT
DTSTART:20251026T010000
END:STANDARD
BEGIN:DAYLIGHT
TZOFFSETFROM:+0000
TZOFFSETTO:+0100
TZNAME:BST
DTSTART:20260329T010000
END:DAYLIGHT
BEGIN:STANDARD
TZOFFSETFROM:+0100
TZOFFSETTO:+0000
TZNAME:GMT
DTSTART:20261025T010000
END:STANDARD
END:VTIMEZONE
BEGIN:VEVENT
DTSTART;TZID=Europe/London:20250218T183000
DTEND;TZID=Europe/London:20250218T193000
DTSTAMP:20260421T121718
CREATED:20240806T150257Z
LAST-MODIFIED:20240806T150257Z
UID:3577-1739903400-1739907000@orstonparish.co.uk
SUMMARY:Core Strength Pilates
DESCRIPTION:
URL:https://orstonparish.co.uk/event/core-strength-pilates-76
LOCATION:Village Hall
CATEGORIES:Regular Activities
ORGANIZER;CN="Amanda Marshall":MAILTO:corestrengthpilates@hotmail.com
END:VEVENT
BEGIN:VEVENT
DTSTART;TZID=Europe/London:20250218T171500
DTEND;TZID=Europe/London:20250218T181500
DTSTAMP:20260421T121718
CREATED:20240806T145710Z
LAST-MODIFIED:20240806T145710Z
UID:3521-1739898900-1739902500@orstonparish.co.uk
SUMMARY:Core Strength Pilates
DESCRIPTION:
URL:https://orstonparish.co.uk/event/core-strength-pilates-29
LOCATION:Village Hall
CATEGORIES:Regular Activities
ORGANIZER;CN="Amanda Marshall":MAILTO:corestrengthpilates@hotmail.com
END:VEVENT
BEGIN:VEVENT
DTSTART;TZID=Europe/London:20250218T132500
DTEND;TZID=Europe/London:20250218T141000
DTSTAMP:20260421T121718
CREATED:20250216T160622Z
LAST-MODIFIED:20250217T165649Z
UID:4829-1739885100-1739887800@orstonparish.co.uk
SUMMARY:Mobile Library
DESCRIPTION:
URL:https://orstonparish.co.uk/event/mobile-library-2
LOCATION:Church Green
CATEGORIES:Regular Activities
ORGANIZER;CN="Inspire":MAILTO:southwell.library@inspireculture.org.uk
END:VEVENT
BEGIN:VEVENT
DTSTART;TZID=Europe/London:20250218T093000
DTEND;TZID=Europe/London:20250218T133000
DTSTAMP:20260421T121718
CREATED:20240806T091846Z
LAST-MODIFIED:20240806T091846Z
UID:3370-1739871000-1739885400@orstonparish.co.uk
SUMMARY:Orston Walkers
DESCRIPTION:
URL:https://orstonparish.co.uk/event/orston-walkers-13
LOCATION:Village Hall
CATEGORIES:Regular Activities
ORGANIZER;CN="Pauline Fazackerley":MAILTO:paulinefaz@live.com
END:VEVENT
BEGIN:VEVENT
DTSTART;TZID=Europe/London:20250216T090000
DTEND;TZID=Europe/London:20250216T100000
DTSTAMP:20260421T121718
CREATED:20240805T171407Z
LAST-MODIFIED:20240805T171407Z
UID:3344-1739696400-1739700000@orstonparish.co.uk
SUMMARY:Holy Communion
DESCRIPTION:
URL:https://orstonparish.co.uk/event/holy-communion-28
LOCATION:St Mary’s Church\, Orston
CATEGORIES:Regular Activities
ORGANIZER;CN="Julian Humpheson":MAILTO:juleshum@gmail.com
END:VEVENT
BEGIN:VEVENT
DTSTART;TZID=Europe/London:20250214T100000
DTEND;TZID=Europe/London:20250214T120000
DTSTAMP:20260421T121718
CREATED:20240805T165500Z
LAST-MODIFIED:20240805T165516Z
UID:3209-1739527200-1739534400@orstonparish.co.uk
SUMMARY:Coffee Morning
DESCRIPTION:
URL:https://orstonparish.co.uk/event/coffee-morning-6
LOCATION:Village Hall
CATEGORIES:Regular Activities
ORGANIZER;CN="Maria Nicholas":MAILTO:marianicho@gmail.com
END:VEVENT
BEGIN:VEVENT
DTSTART;TZID=Europe/London:20250213T193000
DTEND;TZID=Europe/London:20250213T220000
DTSTAMP:20260421T121718
CREATED:20240805T112117Z
LAST-MODIFIED:20240805T112117Z
UID:3043-1739475000-1739484000@orstonparish.co.uk
SUMMARY:Bridge
DESCRIPTION:
URL:https://orstonparish.co.uk/event/bridge-28
LOCATION:Durham Ox
CATEGORIES:Regular Activities
END:VEVENT
BEGIN:VEVENT
DTSTART;TZID=Europe/London:20250213T184500
DTEND;TZID=Europe/London:20250213T200000
DTSTAMP:20260421T121718
CREATED:20240806T142540Z
LAST-MODIFIED:20240806T142540Z
UID:3447-1739472300-1739476800@orstonparish.co.uk
SUMMARY:Orston Village Choir
DESCRIPTION:
URL:https://orstonparish.co.uk/event/orston-village-choir-24
LOCATION:Thomas Cranmer Centre\, Aslockton
CATEGORIES:Regular Activities
ORGANIZER;CN="Ali Burns":MAILTO:ali.burns@yahoo.co.uk
END:VEVENT
BEGIN:VEVENT
DTSTART;TZID=Europe/London:20250213T110000
DTEND;TZID=Europe/London:20250213T150000
DTSTAMP:20260421T121718
CREATED:20250212T101638Z
LAST-MODIFIED:20250212T101638Z
UID:4813-1739444400-1739458800@orstonparish.co.uk
SUMMARY:Pot of Gold
DESCRIPTION:
URL:https://orstonparish.co.uk/event/pot-of-gold
LOCATION:Village Hall
CATEGORIES:Local Events
END:VEVENT
BEGIN:VEVENT
DTSTART;TZID=Europe/London:20250213T093000
DTEND;TZID=Europe/London:20250213T103000
DTSTAMP:20260421T121718
CREATED:20240806T150652Z
LAST-MODIFIED:20240806T150652Z
UID:3629-1739439000-1739442600@orstonparish.co.uk
SUMMARY:Core Strength Pilates
DESCRIPTION:
URL:https://orstonparish.co.uk/event/core-strength-pilates-122
LOCATION:Village Hall
CATEGORIES:Regular Activities
ORGANIZER;CN="Amanda Marshall":MAILTO:corestrengthpilates@hotmail.com
END:VEVENT
BEGIN:VEVENT
DTSTART;TZID=Europe/London:20250212T193000
DTEND;TZID=Europe/London:20250212T213000
DTSTAMP:20260421T121718
CREATED:20240805T105506Z
LAST-MODIFIED:20240805T105506Z
UID:2990-1739388600-1739395800@orstonparish.co.uk
SUMMARY:Orston and Thoroton Women's Institute
DESCRIPTION:
URL:https://orstonparish.co.uk/event/orston-and-thoroton-womens-institute-6
LOCATION:Village Hall
CATEGORIES:Regular Activities
END:VEVENT
BEGIN:VEVENT
DTSTART;TZID=Europe/London:20250211T200000
DTEND;TZID=Europe/London:20250211T220000
DTSTAMP:20260421T121718
CREATED:20240805T103342Z
LAST-MODIFIED:20240805T103342Z
UID:2964-1739304000-1739311200@orstonparish.co.uk
SUMMARY:Badminton Club
DESCRIPTION:
URL:https://orstonparish.co.uk/event/badminton-club-28
LOCATION:Village Hall
CATEGORIES:Regular Activities
ORGANIZER;CN="Roland Daniels":MAILTO:roland.daniels153@gmail.com
END:VEVENT
BEGIN:VEVENT
DTSTART;TZID=Europe/London:20250211T183000
DTEND;TZID=Europe/London:20250211T193000
DTSTAMP:20260421T121718
CREATED:20240806T150254Z
LAST-MODIFIED:20240806T150254Z
UID:3576-1739298600-1739302200@orstonparish.co.uk
SUMMARY:Core Strength Pilates
DESCRIPTION:
URL:https://orstonparish.co.uk/event/core-strength-pilates-75
LOCATION:Village Hall
CATEGORIES:Regular Activities
ORGANIZER;CN="Amanda Marshall":MAILTO:corestrengthpilates@hotmail.com
END:VEVENT
BEGIN:VEVENT
DTSTART;TZID=Europe/London:20250211T171500
DTEND;TZID=Europe/London:20250211T181500
DTSTAMP:20260421T121718
CREATED:20240806T145707Z
LAST-MODIFIED:20240806T145707Z
UID:3520-1739294100-1739297700@orstonparish.co.uk
SUMMARY:Core Strength Pilates
DESCRIPTION:
URL:https://orstonparish.co.uk/event/core-strength-pilates-28
LOCATION:Village Hall
CATEGORIES:Regular Activities
ORGANIZER;CN="Amanda Marshall":MAILTO:corestrengthpilates@hotmail.com
END:VEVENT
BEGIN:VEVENT
DTSTART;TZID=Europe/London:20250209T090000
DTEND;TZID=Europe/London:20250209T100000
DTSTAMP:20260421T121718
CREATED:20240805T171404Z
LAST-MODIFIED:20240805T171404Z
UID:3343-1739091600-1739095200@orstonparish.co.uk
SUMMARY:Holy Communion
DESCRIPTION:
URL:https://orstonparish.co.uk/event/holy-communion-27
LOCATION:St Helena Church\, Thoroton
CATEGORIES:Regular Activities
ORGANIZER;CN="Julian Humpheson":MAILTO:juleshum@gmail.com
END:VEVENT
BEGIN:VEVENT
DTSTART;TZID=Europe/London:20250206T193000
DTEND;TZID=Europe/London:20250206T220000
DTSTAMP:20260421T121718
CREATED:20240805T112116Z
LAST-MODIFIED:20240805T112116Z
UID:3042-1738870200-1738879200@orstonparish.co.uk
SUMMARY:Bridge
DESCRIPTION:
URL:https://orstonparish.co.uk/event/bridge-27
LOCATION:Durham Ox
CATEGORIES:Regular Activities
END:VEVENT
BEGIN:VEVENT
DTSTART;TZID=Europe/London:20250206T184500
DTEND;TZID=Europe/London:20250206T200000
DTSTAMP:20260421T121718
CREATED:20240806T142536Z
LAST-MODIFIED:20240806T142536Z
UID:3446-1738867500-1738872000@orstonparish.co.uk
SUMMARY:Orston Village Choir
DESCRIPTION:
URL:https://orstonparish.co.uk/event/orston-village-choir-23
LOCATION:Thomas Cranmer Centre\, Aslockton
CATEGORIES:Regular Activities
ORGANIZER;CN="Ali Burns":MAILTO:ali.burns@yahoo.co.uk
END:VEVENT
BEGIN:VEVENT
DTSTART;TZID=Europe/London:20250206T093000
DTEND;TZID=Europe/London:20250206T103000
DTSTAMP:20260421T121718
CREATED:20240806T150649Z
LAST-MODIFIED:20240806T150649Z
UID:3628-1738834200-1738837800@orstonparish.co.uk
SUMMARY:Core Strength Pilates
DESCRIPTION:
URL:https://orstonparish.co.uk/event/core-strength-pilates-121
LOCATION:Village Hall
CATEGORIES:Regular Activities
ORGANIZER;CN="Amanda Marshall":MAILTO:corestrengthpilates@hotmail.com
END:VEVENT
BEGIN:VEVENT
DTSTART;TZID=Europe/London:20250204T200000
DTEND;TZID=Europe/London:20250204T220000
DTSTAMP:20260421T121718
CREATED:20240805T103339Z
LAST-MODIFIED:20240805T103339Z
UID:2963-1738699200-1738706400@orstonparish.co.uk
SUMMARY:Badminton Club
DESCRIPTION:
URL:https://orstonparish.co.uk/event/badminton-club-27
LOCATION:Village Hall
CATEGORIES:Regular Activities
ORGANIZER;CN="Roland Daniels":MAILTO:roland.daniels153@gmail.com
END:VEVENT
BEGIN:VEVENT
DTSTART;TZID=Europe/London:20250204T183000
DTEND;TZID=Europe/London:20250204T193000
DTSTAMP:20260421T121718
CREATED:20240806T150251Z
LAST-MODIFIED:20240806T150251Z
UID:3575-1738693800-1738697400@orstonparish.co.uk
SUMMARY:Core Strength Pilates
DESCRIPTION:
URL:https://orstonparish.co.uk/event/core-strength-pilates-74
LOCATION:Village Hall
CATEGORIES:Regular Activities
ORGANIZER;CN="Amanda Marshall":MAILTO:corestrengthpilates@hotmail.com
END:VEVENT
BEGIN:VEVENT
DTSTART;TZID=Europe/London:20250204T171500
DTEND;TZID=Europe/London:20250204T181500
DTSTAMP:20260421T121718
CREATED:20240806T145704Z
LAST-MODIFIED:20240806T145704Z
UID:3519-1738689300-1738692900@orstonparish.co.uk
SUMMARY:Core Strength Pilates
DESCRIPTION:
URL:https://orstonparish.co.uk/event/core-strength-pilates-27
LOCATION:Village Hall
CATEGORIES:Regular Activities
ORGANIZER;CN="Amanda Marshall":MAILTO:corestrengthpilates@hotmail.com
END:VEVENT
BEGIN:VEVENT
DTSTART;TZID=Europe/London:20250204T093000
DTEND;TZID=Europe/London:20250204T133000
DTSTAMP:20260421T121718
CREATED:20240806T091843Z
LAST-MODIFIED:20240806T091843Z
UID:3369-1738661400-1738675800@orstonparish.co.uk
SUMMARY:Orston Walkers
DESCRIPTION:
URL:https://orstonparish.co.uk/event/orston-walkers-12
LOCATION:Village Hall
CATEGORIES:Regular Activities
ORGANIZER;CN="Pauline Fazackerley":MAILTO:paulinefaz@live.com
END:VEVENT
BEGIN:VEVENT
DTSTART;TZID=Europe/London:20250202T090000
DTEND;TZID=Europe/London:20250202T100000
DTSTAMP:20260421T121718
CREATED:20240805T171402Z
LAST-MODIFIED:20240805T171402Z
UID:3342-1738486800-1738490400@orstonparish.co.uk
SUMMARY:Holy Communion
DESCRIPTION:
URL:https://orstonparish.co.uk/event/holy-communion-26
LOCATION:St John of Beverley Church (Whatton)\, Whatton
CATEGORIES:Regular Activities
ORGANIZER;CN="Julian Humpheson":MAILTO:juleshum@gmail.com
END:VEVENT
BEGIN:VEVENT
DTSTART;TZID=Europe/London:20250130T193000
DTEND;TZID=Europe/London:20250130T220000
DTSTAMP:20260421T121718
CREATED:20240805T112111Z
LAST-MODIFIED:20240805T112111Z
UID:3041-1738265400-1738274400@orstonparish.co.uk
SUMMARY:Bridge
DESCRIPTION:
URL:https://orstonparish.co.uk/event/bridge-26
LOCATION:Durham Ox
CATEGORIES:Regular Activities
END:VEVENT
BEGIN:VEVENT
DTSTART;TZID=Europe/London:20250130T184500
DTEND;TZID=Europe/London:20250130T200000
DTSTAMP:20260421T121718
CREATED:20240806T142533Z
LAST-MODIFIED:20240806T142533Z
UID:3445-1738262700-1738267200@orstonparish.co.uk
SUMMARY:Orston Village Choir
DESCRIPTION:
URL:https://orstonparish.co.uk/event/orston-village-choir-22
LOCATION:Thomas Cranmer Centre\, Aslockton
CATEGORIES:Regular Activities
ORGANIZER;CN="Ali Burns":MAILTO:ali.burns@yahoo.co.uk
END:VEVENT
BEGIN:VEVENT
DTSTART;TZID=Europe/London:20250130T093000
DTEND;TZID=Europe/London:20250130T103000
DTSTAMP:20260421T121718
CREATED:20240806T150647Z
LAST-MODIFIED:20240806T150647Z
UID:3627-1738229400-1738233000@orstonparish.co.uk
SUMMARY:Core Strength Pilates
DESCRIPTION:
URL:https://orstonparish.co.uk/event/core-strength-pilates-120
LOCATION:Village Hall
CATEGORIES:Regular Activities
ORGANIZER;CN="Amanda Marshall":MAILTO:corestrengthpilates@hotmail.com
END:VEVENT
BEGIN:VEVENT
DTSTART;TZID=Europe/London:20250129T190000
DTEND;TZID=Europe/London:20250129T190000
DTSTAMP:20260421T121718
CREATED:20250122T145852Z
LAST-MODIFIED:20250130T192555Z
UID:4747-1738177200-1738177200@orstonparish.co.uk
SUMMARY:Parish Council Meeting
DESCRIPTION:This meeting will be held at Village Hall. Members of the public are welcome to attend; please see the agenda for more details.
URL:https://orstonparish.co.uk/event/parish-council-meeting-17
LOCATION:Village Hall
CATEGORIES:Parish Council Meetings
END:VEVENT
BEGIN:VEVENT
DTSTART;TZID=Europe/London:20250128T200000
DTEND;TZID=Europe/London:20250128T220000
DTSTAMP:20260421T121718
CREATED:20240805T103337Z
LAST-MODIFIED:20240805T103337Z
UID:2962-1738094400-1738101600@orstonparish.co.uk
SUMMARY:Badminton Club
DESCRIPTION:
URL:https://orstonparish.co.uk/event/badminton-club-26
LOCATION:Village Hall
CATEGORIES:Regular Activities
ORGANIZER;CN="Roland Daniels":MAILTO:roland.daniels153@gmail.com
END:VEVENT
BEGIN:VEVENT
DTSTART;TZID=Europe/London:20250128T183000
DTEND;TZID=Europe/London:20250128T193000
DTSTAMP:20260421T121718
CREATED:20240806T150248Z
LAST-MODIFIED:20240806T150248Z
UID:3574-1738089000-1738092600@orstonparish.co.uk
SUMMARY:Core Strength Pilates
DESCRIPTION:
URL:https://orstonparish.co.uk/event/core-strength-pilates-73
LOCATION:Village Hall
CATEGORIES:Regular Activities
ORGANIZER;CN="Amanda Marshall":MAILTO:corestrengthpilates@hotmail.com
END:VEVENT
BEGIN:VEVENT
DTSTART;TZID=Europe/London:20250128T171500
DTEND;TZID=Europe/London:20250128T181500
DTSTAMP:20260421T121718
CREATED:20240806T145701Z
LAST-MODIFIED:20240806T145701Z
UID:3518-1738084500-1738088100@orstonparish.co.uk
SUMMARY:Core Strength Pilates
DESCRIPTION:
URL:https://orstonparish.co.uk/event/core-strength-pilates-26
LOCATION:Village Hall
CATEGORIES:Regular Activities
ORGANIZER;CN="Amanda Marshall":MAILTO:corestrengthpilates@hotmail.com
END:VEVENT
END:VCALENDAR