BEGIN:VCALENDAR
VERSION:2.0
PRODID:-//Orston Parish Council - ECPv6.15.20//NONSGML v1.0//EN
CALSCALE:GREGORIAN
METHOD:PUBLISH
X-ORIGINAL-URL:https://orstonparish.co.uk
X-WR-CALDESC:Events for Orston Parish Council
REFRESH-INTERVAL;VALUE=DURATION:PT1H
X-Robots-Tag:noindex
X-PUBLISHED-TTL:PT1H
BEGIN:VTIMEZONE
TZID:Europe/London
BEGIN:DAYLIGHT
TZOFFSETFROM:+0000
TZOFFSETTO:+0100
TZNAME:BST
DTSTART:20230326T010000
END:DAYLIGHT
BEGIN:STANDARD
TZOFFSETFROM:+0100
TZOFFSETTO:+0000
TZNAME:GMT
DTSTART:20231029T010000
END:STANDARD
BEGIN:DAYLIGHT
TZOFFSETFROM:+0000
TZOFFSETTO:+0100
TZNAME:BST
DTSTART:20240331T010000
END:DAYLIGHT
BEGIN:STANDARD
TZOFFSETFROM:+0100
TZOFFSETTO:+0000
TZNAME:GMT
DTSTART:20241027T010000
END:STANDARD
BEGIN:DAYLIGHT
TZOFFSETFROM:+0000
TZOFFSETTO:+0100
TZNAME:BST
DTSTART:20250330T010000
END:DAYLIGHT
BEGIN:STANDARD
TZOFFSETFROM:+0100
TZOFFSETTO:+0000
TZNAME:GMT
DTSTART:20251026T010000
END:STANDARD
BEGIN:DAYLIGHT
TZOFFSETFROM:+0000
TZOFFSETTO:+0100
TZNAME:BST
DTSTART:20260329T010000
END:DAYLIGHT
BEGIN:STANDARD
TZOFFSETFROM:+0100
TZOFFSETTO:+0000
TZNAME:GMT
DTSTART:20261025T010000
END:STANDARD
END:VTIMEZONE
BEGIN:VEVENT
DTSTART;TZID=Europe/London:20250116T093000
DTEND;TZID=Europe/London:20250116T103000
DTSTAMP:20260424T185748
CREATED:20240806T150640Z
LAST-MODIFIED:20240806T150640Z
UID:3625-1737019800-1737023400@orstonparish.co.uk
SUMMARY:Core Strength Pilates
DESCRIPTION:
URL:https://orstonparish.co.uk/event/core-strength-pilates-118
LOCATION:Village Hall
CATEGORIES:Regular Activities
ORGANIZER;CN="Amanda Marshall":MAILTO:corestrengthpilates@hotmail.com
END:VEVENT
BEGIN:VEVENT
DTSTART;TZID=Europe/London:20250115T193000
DTEND;TZID=Europe/London:20250115T213000
DTSTAMP:20260424T185749
CREATED:20240805T105502Z
LAST-MODIFIED:20240805T105502Z
UID:2989-1736969400-1736976600@orstonparish.co.uk
SUMMARY:Orston and Thoroton Women's Institute
DESCRIPTION:
URL:https://orstonparish.co.uk/event/orston-and-thoroton-womens-institute-5
LOCATION:Village Hall
CATEGORIES:Regular Activities
END:VEVENT
BEGIN:VEVENT
DTSTART;TZID=Europe/London:20250114T200000
DTEND;TZID=Europe/London:20250114T220000
DTSTAMP:20260424T185749
CREATED:20240805T103330Z
LAST-MODIFIED:20240805T103330Z
UID:2960-1736884800-1736892000@orstonparish.co.uk
SUMMARY:Badminton Club
DESCRIPTION:
URL:https://orstonparish.co.uk/event/badminton-club-24
LOCATION:Village Hall
CATEGORIES:Regular Activities
ORGANIZER;CN="Roland Daniels":MAILTO:roland.daniels153@gmail.com
END:VEVENT
BEGIN:VEVENT
DTSTART;TZID=Europe/London:20250114T183000
DTEND;TZID=Europe/London:20250114T193000
DTSTAMP:20260424T185749
CREATED:20240806T150242Z
LAST-MODIFIED:20240806T150242Z
UID:3572-1736879400-1736883000@orstonparish.co.uk
SUMMARY:Core Strength Pilates
DESCRIPTION:
URL:https://orstonparish.co.uk/event/core-strength-pilates-71
LOCATION:Village Hall
CATEGORIES:Regular Activities
ORGANIZER;CN="Amanda Marshall":MAILTO:corestrengthpilates@hotmail.com
END:VEVENT
BEGIN:VEVENT
DTSTART;TZID=Europe/London:20250114T171500
DTEND;TZID=Europe/London:20250114T181500
DTSTAMP:20260424T185749
CREATED:20240806T145508Z
LAST-MODIFIED:20240806T145508Z
UID:3516-1736874900-1736878500@orstonparish.co.uk
SUMMARY:Core Strength Pilates
DESCRIPTION:
URL:https://orstonparish.co.uk/event/core-strength-pilates-24
LOCATION:Village Hall
CATEGORIES:Regular Activities
ORGANIZER;CN="Amanda Marshall":MAILTO:corestrengthpilates@hotmail.com
END:VEVENT
BEGIN:VEVENT
DTSTART;TZID=Europe/London:20250112T090000
DTEND;TZID=Europe/London:20250112T100000
DTSTAMP:20260424T185749
CREATED:20240805T171352Z
LAST-MODIFIED:20240805T171352Z
UID:3339-1736672400-1736676000@orstonparish.co.uk
SUMMARY:Holy Communion
DESCRIPTION:
URL:https://orstonparish.co.uk/event/holy-communion-23
LOCATION:St Helena Church\, Thoroton
CATEGORIES:Regular Activities
ORGANIZER;CN="Julian Humpheson":MAILTO:juleshum@gmail.com
END:VEVENT
BEGIN:VEVENT
DTSTART;TZID=Europe/London:20250110T100000
DTEND;TZID=Europe/London:20250110T120000
DTSTAMP:20260424T185749
CREATED:20240805T165456Z
LAST-MODIFIED:20240805T165456Z
UID:3208-1736503200-1736510400@orstonparish.co.uk
SUMMARY:Coffee Morning
DESCRIPTION:
URL:https://orstonparish.co.uk/event/coffee-morning-5
LOCATION:Village Hall
CATEGORIES:Regular Activities
ORGANIZER;CN="Maria Nicholas":MAILTO:marianicho@gmail.com
END:VEVENT
BEGIN:VEVENT
DTSTART;TZID=Europe/London:20250109T193000
DTEND;TZID=Europe/London:20250109T220000
DTSTAMP:20260424T185749
CREATED:20240805T112058Z
LAST-MODIFIED:20240805T112058Z
UID:3038-1736451000-1736460000@orstonparish.co.uk
SUMMARY:Bridge
DESCRIPTION:
URL:https://orstonparish.co.uk/event/bridge-23
LOCATION:Durham Ox
CATEGORIES:Regular Activities
END:VEVENT
BEGIN:VEVENT
DTSTART;TZID=Europe/London:20250109T184500
DTEND;TZID=Europe/London:20250109T200000
DTSTAMP:20260424T185749
CREATED:20240806T142523Z
LAST-MODIFIED:20240806T142523Z
UID:3442-1736448300-1736452800@orstonparish.co.uk
SUMMARY:Orston Village Choir
DESCRIPTION:
URL:https://orstonparish.co.uk/event/orston-village-choir-19
LOCATION:Thomas Cranmer Centre\, Aslockton
CATEGORIES:Regular Activities
ORGANIZER;CN="Ali Burns":MAILTO:ali.burns@yahoo.co.uk
END:VEVENT
BEGIN:VEVENT
DTSTART;TZID=Europe/London:20250109T093000
DTEND;TZID=Europe/London:20250109T103000
DTSTAMP:20260424T185749
CREATED:20240806T150637Z
LAST-MODIFIED:20240806T150637Z
UID:3624-1736415000-1736418600@orstonparish.co.uk
SUMMARY:Core Strength Pilates
DESCRIPTION:
URL:https://orstonparish.co.uk/event/core-strength-pilates-117
LOCATION:Village Hall
CATEGORIES:Regular Activities
ORGANIZER;CN="Amanda Marshall":MAILTO:corestrengthpilates@hotmail.com
END:VEVENT
BEGIN:VEVENT
DTSTART;TZID=Europe/London:20250107T200000
DTEND;TZID=Europe/London:20250107T220000
DTSTAMP:20260424T185749
CREATED:20240805T103327Z
LAST-MODIFIED:20240805T103327Z
UID:2959-1736280000-1736287200@orstonparish.co.uk
SUMMARY:Badminton Club
DESCRIPTION:
URL:https://orstonparish.co.uk/event/badminton-club-23
LOCATION:Village Hall
CATEGORIES:Regular Activities
ORGANIZER;CN="Roland Daniels":MAILTO:roland.daniels153@gmail.com
END:VEVENT
BEGIN:VEVENT
DTSTART;TZID=Europe/London:20250107T183000
DTEND;TZID=Europe/London:20250107T193000
DTSTAMP:20260424T185749
CREATED:20240806T150238Z
LAST-MODIFIED:20240806T150238Z
UID:3571-1736274600-1736278200@orstonparish.co.uk
SUMMARY:Core Strength Pilates
DESCRIPTION:
URL:https://orstonparish.co.uk/event/core-strength-pilates-70
LOCATION:Village Hall
CATEGORIES:Regular Activities
ORGANIZER;CN="Amanda Marshall":MAILTO:corestrengthpilates@hotmail.com
END:VEVENT
BEGIN:VEVENT
DTSTART;TZID=Europe/London:20250107T171500
DTEND;TZID=Europe/London:20250107T181500
DTSTAMP:20260424T185749
CREATED:20240806T145505Z
LAST-MODIFIED:20240806T145505Z
UID:3515-1736270100-1736273700@orstonparish.co.uk
SUMMARY:Core Strength Pilates
DESCRIPTION:
URL:https://orstonparish.co.uk/event/core-strength-pilates-23
LOCATION:Village Hall
CATEGORIES:Regular Activities
ORGANIZER;CN="Amanda Marshall":MAILTO:corestrengthpilates@hotmail.com
END:VEVENT
BEGIN:VEVENT
DTSTART;TZID=Europe/London:20250107T093000
DTEND;TZID=Europe/London:20250107T133000
DTSTAMP:20260424T185749
CREATED:20240806T091837Z
LAST-MODIFIED:20240806T091837Z
UID:3367-1736242200-1736256600@orstonparish.co.uk
SUMMARY:Orston Walkers
DESCRIPTION:
URL:https://orstonparish.co.uk/event/orston-walkers-10
LOCATION:Village Hall
CATEGORIES:Regular Activities
ORGANIZER;CN="Pauline Fazackerley":MAILTO:paulinefaz@live.com
END:VEVENT
BEGIN:VEVENT
DTSTART;TZID=Europe/London:20250105T090000
DTEND;TZID=Europe/London:20250105T100000
DTSTAMP:20260424T185749
CREATED:20240805T171349Z
LAST-MODIFIED:20240805T171349Z
UID:3338-1736067600-1736071200@orstonparish.co.uk
SUMMARY:Holy Communion
DESCRIPTION:
URL:https://orstonparish.co.uk/event/holy-communion-22
LOCATION:St John of Beverley Church (Whatton)\, Whatton
CATEGORIES:Regular Activities
ORGANIZER;CN="Julian Humpheson":MAILTO:juleshum@gmail.com
END:VEVENT
BEGIN:VEVENT
DTSTART;TZID=Europe/London:20250102T193000
DTEND;TZID=Europe/London:20250102T220000
DTSTAMP:20260424T185749
CREATED:20240805T112055Z
LAST-MODIFIED:20240805T112055Z
UID:3037-1735846200-1735855200@orstonparish.co.uk
SUMMARY:Bridge
DESCRIPTION:
URL:https://orstonparish.co.uk/event/bridge-22
LOCATION:Durham Ox
CATEGORIES:Regular Activities
END:VEVENT
BEGIN:VEVENT
DTSTART;TZID=Europe/London:20250102T184500
DTEND;TZID=Europe/London:20250102T200000
DTSTAMP:20260424T185749
CREATED:20240806T142520Z
LAST-MODIFIED:20240806T142520Z
UID:3441-1735843500-1735848000@orstonparish.co.uk
SUMMARY:Orston Village Choir
DESCRIPTION:
URL:https://orstonparish.co.uk/event/orston-village-choir-18
LOCATION:Thomas Cranmer Centre\, Aslockton
CATEGORIES:Regular Activities
ORGANIZER;CN="Ali Burns":MAILTO:ali.burns@yahoo.co.uk
END:VEVENT
BEGIN:VEVENT
DTSTART;TZID=Europe/London:20250102T093000
DTEND;TZID=Europe/London:20250102T103000
DTSTAMP:20260424T185749
CREATED:20240806T150634Z
LAST-MODIFIED:20240806T150634Z
UID:3623-1735810200-1735813800@orstonparish.co.uk
SUMMARY:Core Strength Pilates
DESCRIPTION:
URL:https://orstonparish.co.uk/event/core-strength-pilates-116
LOCATION:Village Hall
CATEGORIES:Regular Activities
ORGANIZER;CN="Amanda Marshall":MAILTO:corestrengthpilates@hotmail.com
END:VEVENT
BEGIN:VEVENT
DTSTART;TZID=Europe/London:20241231T200000
DTEND;TZID=Europe/London:20241231T220000
DTSTAMP:20260424T185749
CREATED:20240805T103324Z
LAST-MODIFIED:20240805T103324Z
UID:2958-1735675200-1735682400@orstonparish.co.uk
SUMMARY:Badminton Club
DESCRIPTION:
URL:https://orstonparish.co.uk/event/badminton-club-22
LOCATION:Village Hall
CATEGORIES:Regular Activities
ORGANIZER;CN="Roland Daniels":MAILTO:roland.daniels153@gmail.com
END:VEVENT
BEGIN:VEVENT
DTSTART;TZID=Europe/London:20241231T193000
DTEND;TZID=Europe/London:20250101T000000
DTSTAMP:20260424T185749
CREATED:20240920T163118Z
LAST-MODIFIED:20240920T163119Z
UID:4209-1735673400-1735689600@orstonparish.co.uk
SUMMARY:New Year's Eve Party
DESCRIPTION:
URL:https://orstonparish.co.uk/event/new-years-eve-party
LOCATION:Village Hall
CATEGORIES:Local Events
END:VEVENT
BEGIN:VEVENT
DTSTART;TZID=Europe/London:20241231T183000
DTEND;TZID=Europe/London:20241231T193000
DTSTAMP:20260424T185749
CREATED:20240806T150235Z
LAST-MODIFIED:20240806T150235Z
UID:3570-1735669800-1735673400@orstonparish.co.uk
SUMMARY:Core Strength Pilates
DESCRIPTION:
URL:https://orstonparish.co.uk/event/core-strength-pilates-69
LOCATION:Village Hall
CATEGORIES:Regular Activities
ORGANIZER;CN="Amanda Marshall":MAILTO:corestrengthpilates@hotmail.com
END:VEVENT
BEGIN:VEVENT
DTSTART;TZID=Europe/London:20241231T171500
DTEND;TZID=Europe/London:20241231T181500
DTSTAMP:20260424T185749
CREATED:20240806T145502Z
LAST-MODIFIED:20240806T145502Z
UID:3514-1735665300-1735668900@orstonparish.co.uk
SUMMARY:Core Strength Pilates
DESCRIPTION:
URL:https://orstonparish.co.uk/event/core-strength-pilates-22
LOCATION:Village Hall
CATEGORIES:Regular Activities
ORGANIZER;CN="Amanda Marshall":MAILTO:corestrengthpilates@hotmail.com
END:VEVENT
BEGIN:VEVENT
DTSTART;TZID=Europe/London:20241229T190000
DTEND;TZID=Europe/London:20241229T210000
DTSTAMP:20260424T185749
CREATED:20240806T135151Z
LAST-MODIFIED:20240806T135151Z
UID:3390-1735498800-1735506000@orstonparish.co.uk
SUMMARY:Quiz Night
DESCRIPTION:
URL:https://orstonparish.co.uk/event/quiz-night-5
LOCATION:Durham Ox
CATEGORIES:Regular Activities
ORGANIZER;CN="Durham Ox":MAILTO:thedurhamoxorston@gmail.com
END:VEVENT
BEGIN:VEVENT
DTSTART;TZID=Europe/London:20241229T090000
DTEND;TZID=Europe/London:20241229T100000
DTSTAMP:20260424T185749
CREATED:20240805T171345Z
LAST-MODIFIED:20240805T171345Z
UID:3337-1735462800-1735466400@orstonparish.co.uk
SUMMARY:Holy Communion
DESCRIPTION:
URL:https://orstonparish.co.uk/event/holy-communion-21
LOCATION:St John of Beverley Church (Scarrington)\, Scarrington
CATEGORIES:Regular Activities
ORGANIZER;CN="Julian Humpheson":MAILTO:juleshum@gmail.com
END:VEVENT
BEGIN:VEVENT
DTSTART;TZID=Europe/London:20241226T193000
DTEND;TZID=Europe/London:20241226T220000
DTSTAMP:20260424T185749
CREATED:20240805T112055Z
LAST-MODIFIED:20240805T112055Z
UID:3036-1735241400-1735250400@orstonparish.co.uk
SUMMARY:Bridge
DESCRIPTION:
URL:https://orstonparish.co.uk/event/bridge-21
LOCATION:Durham Ox
CATEGORIES:Regular Activities
END:VEVENT
BEGIN:VEVENT
DTSTART;TZID=Europe/London:20241226T184500
DTEND;TZID=Europe/London:20241226T200000
DTSTAMP:20260424T185749
CREATED:20240806T142517Z
LAST-MODIFIED:20240806T142517Z
UID:3440-1735238700-1735243200@orstonparish.co.uk
SUMMARY:Orston Village Choir
DESCRIPTION:
URL:https://orstonparish.co.uk/event/orston-village-choir-17
LOCATION:Thomas Cranmer Centre\, Aslockton
CATEGORIES:Regular Activities
ORGANIZER;CN="Ali Burns":MAILTO:ali.burns@yahoo.co.uk
END:VEVENT
BEGIN:VEVENT
DTSTART;TZID=Europe/London:20241226T093000
DTEND;TZID=Europe/London:20241226T103000
DTSTAMP:20260424T185749
CREATED:20240806T150630Z
LAST-MODIFIED:20240806T150630Z
UID:3622-1735205400-1735209000@orstonparish.co.uk
SUMMARY:Core Strength Pilates
DESCRIPTION:
URL:https://orstonparish.co.uk/event/core-strength-pilates-115
LOCATION:Village Hall
CATEGORIES:Regular Activities
ORGANIZER;CN="Amanda Marshall":MAILTO:corestrengthpilates@hotmail.com
END:VEVENT
BEGIN:VEVENT
DTSTART;TZID=Europe/London:20241224T200000
DTEND;TZID=Europe/London:20241224T220000
DTSTAMP:20260424T185749
CREATED:20240805T103322Z
LAST-MODIFIED:20240805T103322Z
UID:2957-1735070400-1735077600@orstonparish.co.uk
SUMMARY:Badminton Club
DESCRIPTION:
URL:https://orstonparish.co.uk/event/badminton-club-21
LOCATION:Village Hall
CATEGORIES:Regular Activities
ORGANIZER;CN="Roland Daniels":MAILTO:roland.daniels153@gmail.com
END:VEVENT
BEGIN:VEVENT
DTSTART;TZID=Europe/London:20241224T183000
DTEND;TZID=Europe/London:20241224T193000
DTSTAMP:20260424T185749
CREATED:20240806T150233Z
LAST-MODIFIED:20240806T150233Z
UID:3569-1735065000-1735068600@orstonparish.co.uk
SUMMARY:Core Strength Pilates
DESCRIPTION:
URL:https://orstonparish.co.uk/event/core-strength-pilates-68
LOCATION:Village Hall
CATEGORIES:Regular Activities
ORGANIZER;CN="Amanda Marshall":MAILTO:corestrengthpilates@hotmail.com
END:VEVENT
BEGIN:VEVENT
DTSTART;TZID=Europe/London:20241224T181500
DTEND;TZID=Europe/London:20241224T191500
DTSTAMP:20260424T185749
CREATED:20241022T095724Z
LAST-MODIFIED:20241022T095724Z
UID:4360-1735064100-1735067700@orstonparish.co.uk
SUMMARY:Christmas Pageant
DESCRIPTION:
URL:https://orstonparish.co.uk/event/christmas-pageant
LOCATION:St Mary’s Church\, Orston
CATEGORIES:Local Events
END:VEVENT
END:VCALENDAR