BEGIN:VCALENDAR
VERSION:2.0
PRODID:-//Orston Parish Council - ECPv6.15.20//NONSGML v1.0//EN
CALSCALE:GREGORIAN
METHOD:PUBLISH
X-ORIGINAL-URL:https://orstonparish.co.uk
X-WR-CALDESC:Events for Orston Parish Council
REFRESH-INTERVAL;VALUE=DURATION:PT1H
X-Robots-Tag:noindex
X-PUBLISHED-TTL:PT1H
BEGIN:VTIMEZONE
TZID:Europe/London
BEGIN:DAYLIGHT
TZOFFSETFROM:+0000
TZOFFSETTO:+0100
TZNAME:BST
DTSTART:20230326T010000
END:DAYLIGHT
BEGIN:STANDARD
TZOFFSETFROM:+0100
TZOFFSETTO:+0000
TZNAME:GMT
DTSTART:20231029T010000
END:STANDARD
BEGIN:DAYLIGHT
TZOFFSETFROM:+0000
TZOFFSETTO:+0100
TZNAME:BST
DTSTART:20240331T010000
END:DAYLIGHT
BEGIN:STANDARD
TZOFFSETFROM:+0100
TZOFFSETTO:+0000
TZNAME:GMT
DTSTART:20241027T010000
END:STANDARD
BEGIN:DAYLIGHT
TZOFFSETFROM:+0000
TZOFFSETTO:+0100
TZNAME:BST
DTSTART:20250330T010000
END:DAYLIGHT
BEGIN:STANDARD
TZOFFSETFROM:+0100
TZOFFSETTO:+0000
TZNAME:GMT
DTSTART:20251026T010000
END:STANDARD
END:VTIMEZONE
BEGIN:VEVENT
DTSTART;TZID=Europe/London:20241226T193000
DTEND;TZID=Europe/London:20241226T220000
DTSTAMP:20260424T225845
CREATED:20240805T112055Z
LAST-MODIFIED:20240805T112055Z
UID:3036-1735241400-1735250400@orstonparish.co.uk
SUMMARY:Bridge
DESCRIPTION:
URL:https://orstonparish.co.uk/event/bridge-21
LOCATION:Durham Ox
CATEGORIES:Regular Activities
END:VEVENT
BEGIN:VEVENT
DTSTART;TZID=Europe/London:20241226T184500
DTEND;TZID=Europe/London:20241226T200000
DTSTAMP:20260424T225845
CREATED:20240806T142517Z
LAST-MODIFIED:20240806T142517Z
UID:3440-1735238700-1735243200@orstonparish.co.uk
SUMMARY:Orston Village Choir
DESCRIPTION:
URL:https://orstonparish.co.uk/event/orston-village-choir-17
LOCATION:Thomas Cranmer Centre\, Aslockton
CATEGORIES:Regular Activities
ORGANIZER;CN="Ali Burns":MAILTO:ali.burns@yahoo.co.uk
END:VEVENT
BEGIN:VEVENT
DTSTART;TZID=Europe/London:20241226T093000
DTEND;TZID=Europe/London:20241226T103000
DTSTAMP:20260424T225845
CREATED:20240806T150630Z
LAST-MODIFIED:20240806T150630Z
UID:3622-1735205400-1735209000@orstonparish.co.uk
SUMMARY:Core Strength Pilates
DESCRIPTION:
URL:https://orstonparish.co.uk/event/core-strength-pilates-115
LOCATION:Village Hall
CATEGORIES:Regular Activities
ORGANIZER;CN="Amanda Marshall":MAILTO:corestrengthpilates@hotmail.com
END:VEVENT
BEGIN:VEVENT
DTSTART;TZID=Europe/London:20241224T200000
DTEND;TZID=Europe/London:20241224T220000
DTSTAMP:20260424T225845
CREATED:20240805T103322Z
LAST-MODIFIED:20240805T103322Z
UID:2957-1735070400-1735077600@orstonparish.co.uk
SUMMARY:Badminton Club
DESCRIPTION:
URL:https://orstonparish.co.uk/event/badminton-club-21
LOCATION:Village Hall
CATEGORIES:Regular Activities
ORGANIZER;CN="Roland Daniels":MAILTO:roland.daniels153@gmail.com
END:VEVENT
BEGIN:VEVENT
DTSTART;TZID=Europe/London:20241224T183000
DTEND;TZID=Europe/London:20241224T193000
DTSTAMP:20260424T225845
CREATED:20240806T150233Z
LAST-MODIFIED:20240806T150233Z
UID:3569-1735065000-1735068600@orstonparish.co.uk
SUMMARY:Core Strength Pilates
DESCRIPTION:
URL:https://orstonparish.co.uk/event/core-strength-pilates-68
LOCATION:Village Hall
CATEGORIES:Regular Activities
ORGANIZER;CN="Amanda Marshall":MAILTO:corestrengthpilates@hotmail.com
END:VEVENT
BEGIN:VEVENT
DTSTART;TZID=Europe/London:20241224T181500
DTEND;TZID=Europe/London:20241224T191500
DTSTAMP:20260424T225845
CREATED:20241022T095724Z
LAST-MODIFIED:20241022T095724Z
UID:4360-1735064100-1735067700@orstonparish.co.uk
SUMMARY:Christmas Pageant
DESCRIPTION:
URL:https://orstonparish.co.uk/event/christmas-pageant
LOCATION:St Mary’s Church\, Orston
CATEGORIES:Local Events
END:VEVENT
BEGIN:VEVENT
DTSTART;TZID=Europe/London:20241224T171500
DTEND;TZID=Europe/London:20241224T181500
DTSTAMP:20260424T225845
CREATED:20240806T145459Z
LAST-MODIFIED:20240806T145459Z
UID:3513-1735060500-1735064100@orstonparish.co.uk
SUMMARY:Core Strength Pilates
DESCRIPTION:
URL:https://orstonparish.co.uk/event/core-strength-pilates-21
LOCATION:Village Hall
CATEGORIES:Regular Activities
ORGANIZER;CN="Amanda Marshall":MAILTO:corestrengthpilates@hotmail.com
END:VEVENT
BEGIN:VEVENT
DTSTART;TZID=Europe/London:20241222T090000
DTEND;TZID=Europe/London:20241222T100000
DTSTAMP:20260424T225845
CREATED:20240805T171339Z
LAST-MODIFIED:20240805T171339Z
UID:3336-1734858000-1734861600@orstonparish.co.uk
SUMMARY:Holy Communion
DESCRIPTION:
URL:https://orstonparish.co.uk/event/holy-communion-20
LOCATION:St Mary and All Saints Church\, Hawksworth
CATEGORIES:Regular Activities
ORGANIZER;CN="Julian Humpheson":MAILTO:juleshum@gmail.com
END:VEVENT
BEGIN:VEVENT
DTSTART;TZID=Europe/London:20241221T160000
DTEND;TZID=Europe/London:20241221T170000
DTSTAMP:20260424T225845
CREATED:20241022T095555Z
LAST-MODIFIED:20241022T095555Z
UID:4357-1734796800-1734800400@orstonparish.co.uk
SUMMARY:Carol Service
DESCRIPTION:
URL:https://orstonparish.co.uk/event/carol-service-2
LOCATION:St Mary’s Church\, Orston
CATEGORIES:Local Events
END:VEVENT
BEGIN:VEVENT
DTSTART;TZID=Europe/London:20241219T193000
DTEND;TZID=Europe/London:20241219T220000
DTSTAMP:20260424T225845
CREATED:20240805T112046Z
LAST-MODIFIED:20240805T112046Z
UID:3035-1734636600-1734645600@orstonparish.co.uk
SUMMARY:Bridge
DESCRIPTION:
URL:https://orstonparish.co.uk/event/bridge-20
LOCATION:Durham Ox
CATEGORIES:Regular Activities
END:VEVENT
BEGIN:VEVENT
DTSTART;TZID=Europe/London:20241219T184500
DTEND;TZID=Europe/London:20241219T200000
DTSTAMP:20260424T225845
CREATED:20240806T142515Z
LAST-MODIFIED:20240806T142515Z
UID:3439-1734633900-1734638400@orstonparish.co.uk
SUMMARY:Orston Village Choir
DESCRIPTION:
URL:https://orstonparish.co.uk/event/orston-village-choir-16
LOCATION:Thomas Cranmer Centre\, Aslockton
CATEGORIES:Regular Activities
ORGANIZER;CN="Ali Burns":MAILTO:ali.burns@yahoo.co.uk
END:VEVENT
BEGIN:VEVENT
DTSTART;TZID=Europe/London:20241219T110000
DTEND;TZID=Europe/London:20241219T120000
DTSTAMP:20260424T225845
CREATED:20241026T105350Z
LAST-MODIFIED:20241026T105350Z
UID:4445-1734606000-1734609600@orstonparish.co.uk
SUMMARY:Mindfulness
DESCRIPTION:
URL:https://orstonparish.co.uk/event/mindfulness-7
LOCATION:Village Hall
CATEGORIES:Regular Activities
END:VEVENT
BEGIN:VEVENT
DTSTART;TZID=Europe/London:20241219T093000
DTEND;TZID=Europe/London:20241219T103000
DTSTAMP:20260424T225845
CREATED:20240806T150621Z
LAST-MODIFIED:20240806T150621Z
UID:3621-1734600600-1734604200@orstonparish.co.uk
SUMMARY:Core Strength Pilates
DESCRIPTION:
URL:https://orstonparish.co.uk/event/core-strength-pilates-114
LOCATION:Village Hall
CATEGORIES:Regular Activities
ORGANIZER;CN="Amanda Marshall":MAILTO:corestrengthpilates@hotmail.com
END:VEVENT
BEGIN:VEVENT
DTSTART;TZID=Europe/London:20241218T193000
DTEND;TZID=Europe/London:20241218T213000
DTSTAMP:20260424T225845
CREATED:20240805T110603Z
LAST-MODIFIED:20240805T110603Z
UID:3003-1734550200-1734557400@orstonparish.co.uk
SUMMARY:Orston Garden Club
DESCRIPTION:
URL:https://orstonparish.co.uk/event/orston-garden-club-4
LOCATION:Village Hall
CATEGORIES:Regular Activities
ORGANIZER;CN="Anne Hounslow":MAILTO:anne.hounslow@btinternet.com
END:VEVENT
BEGIN:VEVENT
DTSTART;TZID=Europe/London:20241217T200000
DTEND;TZID=Europe/London:20241217T220000
DTSTAMP:20260424T225845
CREATED:20240805T103318Z
LAST-MODIFIED:20240805T103318Z
UID:2956-1734465600-1734472800@orstonparish.co.uk
SUMMARY:Badminton Club
DESCRIPTION:
URL:https://orstonparish.co.uk/event/badminton-club-20
LOCATION:Village Hall
CATEGORIES:Regular Activities
ORGANIZER;CN="Roland Daniels":MAILTO:roland.daniels153@gmail.com
END:VEVENT
BEGIN:VEVENT
DTSTART;TZID=Europe/London:20241217T183000
DTEND;TZID=Europe/London:20241217T193000
DTSTAMP:20260424T225845
CREATED:20240806T150229Z
LAST-MODIFIED:20240806T150229Z
UID:3568-1734460200-1734463800@orstonparish.co.uk
SUMMARY:Core Strength Pilates
DESCRIPTION:
URL:https://orstonparish.co.uk/event/core-strength-pilates-67
LOCATION:Village Hall
CATEGORIES:Regular Activities
ORGANIZER;CN="Amanda Marshall":MAILTO:corestrengthpilates@hotmail.com
END:VEVENT
BEGIN:VEVENT
DTSTART;TZID=Europe/London:20241217T171500
DTEND;TZID=Europe/London:20241217T181500
DTSTAMP:20260424T225845
CREATED:20240806T145447Z
LAST-MODIFIED:20240806T145447Z
UID:3512-1734455700-1734459300@orstonparish.co.uk
SUMMARY:Core Strength Pilates
DESCRIPTION:
URL:https://orstonparish.co.uk/event/core-strength-pilates-20
LOCATION:Village Hall
CATEGORIES:Regular Activities
ORGANIZER;CN="Amanda Marshall":MAILTO:corestrengthpilates@hotmail.com
END:VEVENT
BEGIN:VEVENT
DTSTART;TZID=Europe/London:20241215T090000
DTEND;TZID=Europe/London:20241215T100000
DTSTAMP:20260424T225845
CREATED:20240805T171338Z
LAST-MODIFIED:20240805T171338Z
UID:3335-1734253200-1734256800@orstonparish.co.uk
SUMMARY:Holy Communion
DESCRIPTION:
URL:https://orstonparish.co.uk/event/holy-communion-19
LOCATION:St Mary’s Church\, Orston
CATEGORIES:Regular Activities
ORGANIZER;CN="Julian Humpheson":MAILTO:juleshum@gmail.com
END:VEVENT
BEGIN:VEVENT
DTSTART;TZID=Europe/London:20241213T100000
DTEND;TZID=Europe/London:20241213T120000
DTSTAMP:20260424T225845
CREATED:20240805T165453Z
LAST-MODIFIED:20240805T165453Z
UID:3207-1734084000-1734091200@orstonparish.co.uk
SUMMARY:Coffee Morning
DESCRIPTION:
URL:https://orstonparish.co.uk/event/coffee-morning-4
LOCATION:Village Hall
CATEGORIES:Regular Activities
ORGANIZER;CN="Maria Nicholas":MAILTO:marianicho@gmail.com
END:VEVENT
BEGIN:VEVENT
DTSTART;TZID=Europe/London:20241212T193000
DTEND;TZID=Europe/London:20241212T220000
DTSTAMP:20260424T225845
CREATED:20240805T112043Z
LAST-MODIFIED:20240805T112043Z
UID:3034-1734031800-1734040800@orstonparish.co.uk
SUMMARY:Bridge
DESCRIPTION:
URL:https://orstonparish.co.uk/event/bridge-19
LOCATION:Durham Ox
CATEGORIES:Regular Activities
END:VEVENT
BEGIN:VEVENT
DTSTART;TZID=Europe/London:20241212T184500
DTEND;TZID=Europe/London:20241212T200000
DTSTAMP:20260424T225845
CREATED:20240806T142510Z
LAST-MODIFIED:20240806T142510Z
UID:3438-1734029100-1734033600@orstonparish.co.uk
SUMMARY:Orston Village Choir
DESCRIPTION:
URL:https://orstonparish.co.uk/event/orston-village-choir-15
LOCATION:Thomas Cranmer Centre\, Aslockton
CATEGORIES:Regular Activities
ORGANIZER;CN="Ali Burns":MAILTO:ali.burns@yahoo.co.uk
END:VEVENT
BEGIN:VEVENT
DTSTART;TZID=Europe/London:20241212T110000
DTEND;TZID=Europe/London:20241212T120000
DTSTAMP:20260424T225845
CREATED:20241026T105349Z
LAST-MODIFIED:20241026T105349Z
UID:4444-1734001200-1734004800@orstonparish.co.uk
SUMMARY:Mindfulness
DESCRIPTION:
URL:https://orstonparish.co.uk/event/mindfulness-6
LOCATION:Village Hall
CATEGORIES:Regular Activities
END:VEVENT
BEGIN:VEVENT
DTSTART;TZID=Europe/London:20241212T093000
DTEND;TZID=Europe/London:20241212T103000
DTSTAMP:20260424T225845
CREATED:20240806T150618Z
LAST-MODIFIED:20240806T150618Z
UID:3620-1733995800-1733999400@orstonparish.co.uk
SUMMARY:Core Strength Pilates
DESCRIPTION:
URL:https://orstonparish.co.uk/event/core-strength-pilates-113
LOCATION:Village Hall
CATEGORIES:Regular Activities
ORGANIZER;CN="Amanda Marshall":MAILTO:corestrengthpilates@hotmail.com
END:VEVENT
BEGIN:VEVENT
DTSTART;TZID=Europe/London:20241211T193000
DTEND;TZID=Europe/London:20241211T213000
DTSTAMP:20260424T225845
CREATED:20240805T105459Z
LAST-MODIFIED:20240805T105459Z
UID:2988-1733945400-1733952600@orstonparish.co.uk
SUMMARY:Orston and Thoroton Women's Institute
DESCRIPTION:
URL:https://orstonparish.co.uk/event/orston-and-thoroton-womens-institute-4
LOCATION:Village Hall
CATEGORIES:Regular Activities
END:VEVENT
BEGIN:VEVENT
DTSTART;TZID=Europe/London:20241210T200000
DTEND;TZID=Europe/London:20241210T220000
DTSTAMP:20260424T225845
CREATED:20240805T103315Z
LAST-MODIFIED:20240805T103315Z
UID:2955-1733860800-1733868000@orstonparish.co.uk
SUMMARY:Badminton Club
DESCRIPTION:
URL:https://orstonparish.co.uk/event/badminton-club-19
LOCATION:Village Hall
CATEGORIES:Regular Activities
ORGANIZER;CN="Roland Daniels":MAILTO:roland.daniels153@gmail.com
END:VEVENT
BEGIN:VEVENT
DTSTART;TZID=Europe/London:20241210T183000
DTEND;TZID=Europe/London:20241210T193000
DTSTAMP:20260424T225845
CREATED:20240806T150226Z
LAST-MODIFIED:20240806T150226Z
UID:3567-1733855400-1733859000@orstonparish.co.uk
SUMMARY:Core Strength Pilates
DESCRIPTION:
URL:https://orstonparish.co.uk/event/core-strength-pilates-66
LOCATION:Village Hall
CATEGORIES:Regular Activities
ORGANIZER;CN="Amanda Marshall":MAILTO:corestrengthpilates@hotmail.com
END:VEVENT
BEGIN:VEVENT
DTSTART;TZID=Europe/London:20241210T171500
DTEND;TZID=Europe/London:20241210T181500
DTSTAMP:20260424T225845
CREATED:20240806T145444Z
LAST-MODIFIED:20240806T145444Z
UID:3511-1733850900-1733854500@orstonparish.co.uk
SUMMARY:Core Strength Pilates
DESCRIPTION:
URL:https://orstonparish.co.uk/event/core-strength-pilates-19
LOCATION:Village Hall
CATEGORIES:Regular Activities
ORGANIZER;CN="Amanda Marshall":MAILTO:corestrengthpilates@hotmail.com
END:VEVENT
BEGIN:VEVENT
DTSTART;TZID=Europe/London:20241210T093000
DTEND;TZID=Europe/London:20241210T133000
DTSTAMP:20260424T225845
CREATED:20240805T095722Z
LAST-MODIFIED:20240805T095722Z
UID:2929-1733823000-1733837400@orstonparish.co.uk
SUMMARY:Orston Walkers - Christmas Walk and Lunch
DESCRIPTION:
URL:https://orstonparish.co.uk/event/orston-walkers-christmas-walk-and-lunch
LOCATION:Village Hall
CATEGORIES:Regular Activities
ORGANIZER;CN="Pauline Fazackerley":MAILTO:paulinefaz@live.com
END:VEVENT
BEGIN:VEVENT
DTSTART;TZID=Europe/London:20241208T150000
DTEND;TZID=Europe/London:20241208T173000
DTSTAMP:20260424T225845
CREATED:20241009T151910Z
LAST-MODIFIED:20241009T151910Z
UID:4321-1733670000-1733679000@orstonparish.co.uk
SUMMARY:Christmas Wreath Workshop
DESCRIPTION:
URL:https://orstonparish.co.uk/event/christmas-wreath-workshop
LOCATION:Village Hall
CATEGORIES:Local Events
ATTACH;FMTTYPE=image/jpeg:https://orstonparish.co.uk/wp-content/uploads/2024/10/Christmas-Wreath-Workshop.jpg
END:VEVENT
BEGIN:VEVENT
DTSTART;TZID=Europe/London:20241208T090000
DTEND;TZID=Europe/London:20241208T100000
DTSTAMP:20260424T225845
CREATED:20240805T171333Z
LAST-MODIFIED:20240805T171333Z
UID:3334-1733648400-1733652000@orstonparish.co.uk
SUMMARY:Holy Communion
DESCRIPTION:
URL:https://orstonparish.co.uk/event/holy-communion-18
LOCATION:St Helena Church\, Thoroton
CATEGORIES:Regular Activities
ORGANIZER;CN="Julian Humpheson":MAILTO:juleshum@gmail.com
END:VEVENT
END:VCALENDAR