BEGIN:VCALENDAR
VERSION:2.0
PRODID:-//Orston Parish Council - ECPv6.15.20//NONSGML v1.0//EN
CALSCALE:GREGORIAN
METHOD:PUBLISH
X-ORIGINAL-URL:https://orstonparish.co.uk
X-WR-CALDESC:Events for Orston Parish Council
REFRESH-INTERVAL;VALUE=DURATION:PT1H
X-Robots-Tag:noindex
X-PUBLISHED-TTL:PT1H
BEGIN:VTIMEZONE
TZID:Europe/London
BEGIN:DAYLIGHT
TZOFFSETFROM:+0000
TZOFFSETTO:+0100
TZNAME:BST
DTSTART:20230326T010000
END:DAYLIGHT
BEGIN:STANDARD
TZOFFSETFROM:+0100
TZOFFSETTO:+0000
TZNAME:GMT
DTSTART:20231029T010000
END:STANDARD
BEGIN:DAYLIGHT
TZOFFSETFROM:+0000
TZOFFSETTO:+0100
TZNAME:BST
DTSTART:20240331T010000
END:DAYLIGHT
BEGIN:STANDARD
TZOFFSETFROM:+0100
TZOFFSETTO:+0000
TZNAME:GMT
DTSTART:20241027T010000
END:STANDARD
BEGIN:DAYLIGHT
TZOFFSETFROM:+0000
TZOFFSETTO:+0100
TZNAME:BST
DTSTART:20250330T010000
END:DAYLIGHT
BEGIN:STANDARD
TZOFFSETFROM:+0100
TZOFFSETTO:+0000
TZNAME:GMT
DTSTART:20251026T010000
END:STANDARD
END:VTIMEZONE
BEGIN:VEVENT
DTSTART;TZID=Europe/London:20241110T104500
DTEND;TZID=Europe/London:20241110T114500
DTSTAMP:20260425T123914
CREATED:20241108T103416Z
LAST-MODIFIED:20241108T103416Z
UID:4499-1731235500-1731239100@orstonparish.co.uk
SUMMARY:Remembrance Parade Service
DESCRIPTION:
URL:https://orstonparish.co.uk/event/remembrance-parade-service
CATEGORIES:Local Events
END:VEVENT
BEGIN:VEVENT
DTSTART;TZID=Europe/London:20241110T090000
DTEND;TZID=Europe/London:20241110T100000
DTSTAMP:20260425T123914
CREATED:20240805T171321Z
LAST-MODIFIED:20240805T171321Z
UID:3330-1731229200-1731232800@orstonparish.co.uk
SUMMARY:Holy Communion
DESCRIPTION:
URL:https://orstonparish.co.uk/event/holy-communion-14
LOCATION:St Helena Church\, Thoroton
CATEGORIES:Regular Activities
ORGANIZER;CN="Julian Humpheson":MAILTO:juleshum@gmail.com
END:VEVENT
BEGIN:VEVENT
DTSTART;TZID=Europe/London:20241109T084500
DTEND;TZID=Europe/London:20241109T125000
DTSTAMP:20260425T123914
CREATED:20240806T140622Z
LAST-MODIFIED:20240806T140622Z
UID:3411-1731141900-1731156600@orstonparish.co.uk
SUMMARY:Orston & Bottesford School of Dance
DESCRIPTION:
URL:https://orstonparish.co.uk/event/orston-bottesford-school-of-dance-10
LOCATION:Village Hall
CATEGORIES:Regular Activities
ORGANIZER;CN="Lisa Murray":MAILTO:oandbdance@btinternet.com
END:VEVENT
BEGIN:VEVENT
DTSTART;TZID=Europe/London:20241107T193000
DTEND;TZID=Europe/London:20241107T220000
DTSTAMP:20260425T123914
CREATED:20240805T112027Z
LAST-MODIFIED:20240805T112027Z
UID:3029-1731007800-1731016800@orstonparish.co.uk
SUMMARY:Bridge
DESCRIPTION:
URL:https://orstonparish.co.uk/event/bridge-14
LOCATION:Durham Ox
CATEGORIES:Regular Activities
END:VEVENT
BEGIN:VEVENT
DTSTART;TZID=Europe/London:20241107T184500
DTEND;TZID=Europe/London:20241107T200000
DTSTAMP:20260425T123914
CREATED:20240806T142455Z
LAST-MODIFIED:20240806T142455Z
UID:3433-1731005100-1731009600@orstonparish.co.uk
SUMMARY:Orston Village Choir
DESCRIPTION:
URL:https://orstonparish.co.uk/event/orston-village-choir-10
LOCATION:Thomas Cranmer Centre\, Aslockton
CATEGORIES:Regular Activities
ORGANIZER;CN="Ali Burns":MAILTO:ali.burns@yahoo.co.uk
END:VEVENT
BEGIN:VEVENT
DTSTART;TZID=Europe/London:20241107T110000
DTEND;TZID=Europe/London:20241107T120000
DTSTAMP:20260425T123914
CREATED:20241026T105346Z
LAST-MODIFIED:20241026T105346Z
UID:4439-1730977200-1730980800@orstonparish.co.uk
SUMMARY:Mindfulness
DESCRIPTION:
URL:https://orstonparish.co.uk/event/mindfulness
LOCATION:Village Hall
CATEGORIES:Regular Activities
END:VEVENT
BEGIN:VEVENT
DTSTART;TZID=Europe/London:20241107T100000
DTEND;TZID=Europe/London:20241107T120000
DTSTAMP:20260425T123914
CREATED:20240806T143609Z
LAST-MODIFIED:20240806T143609Z
UID:3483-1730973600-1730980800@orstonparish.co.uk
SUMMARY:Tot Spot
DESCRIPTION:
URL:https://orstonparish.co.uk/event/tot-spot-10
LOCATION:Thomas Cranmer Centre\, Aslockton
CATEGORIES:Regular Activities
ORGANIZER;CN="Clare Chambers":MAILTO:families@cranmergroup.org.uk
END:VEVENT
BEGIN:VEVENT
DTSTART;TZID=Europe/London:20241107T093000
DTEND;TZID=Europe/London:20241107T103000
DTSTAMP:20260425T123914
CREATED:20240806T150602Z
LAST-MODIFIED:20240806T150602Z
UID:3615-1730971800-1730975400@orstonparish.co.uk
SUMMARY:Core Strength Pilates
DESCRIPTION:
URL:https://orstonparish.co.uk/event/core-strength-pilates-108
LOCATION:Village Hall
CATEGORIES:Regular Activities
ORGANIZER;CN="Amanda Marshall":MAILTO:corestrengthpilates@hotmail.com
END:VEVENT
BEGIN:VEVENT
DTSTART;TZID=Europe/London:20241105T200000
DTEND;TZID=Europe/London:20241105T220000
DTSTAMP:20260425T123914
CREATED:20240805T103259Z
LAST-MODIFIED:20240805T103259Z
UID:2950-1730836800-1730844000@orstonparish.co.uk
SUMMARY:Badminton Club
DESCRIPTION:
URL:https://orstonparish.co.uk/event/badminton-club-14
LOCATION:Village Hall
CATEGORIES:Regular Activities
ORGANIZER;CN="Roland Daniels":MAILTO:roland.daniels153@gmail.com
END:VEVENT
BEGIN:VEVENT
DTSTART;TZID=Europe/London:20241105T183000
DTEND;TZID=Europe/London:20241105T193000
DTSTAMP:20260425T123914
CREATED:20240806T150210Z
LAST-MODIFIED:20240806T150210Z
UID:3562-1730831400-1730835000@orstonparish.co.uk
SUMMARY:Core Strength Pilates
DESCRIPTION:
URL:https://orstonparish.co.uk/event/core-strength-pilates-61
LOCATION:Village Hall
CATEGORIES:Regular Activities
ORGANIZER;CN="Amanda Marshall":MAILTO:corestrengthpilates@hotmail.com
END:VEVENT
BEGIN:VEVENT
DTSTART;TZID=Europe/London:20241105T171500
DTEND;TZID=Europe/London:20241105T181500
DTSTAMP:20260425T123914
CREATED:20240806T145253Z
LAST-MODIFIED:20240806T145253Z
UID:3506-1730826900-1730830500@orstonparish.co.uk
SUMMARY:Core Strength Pilates
DESCRIPTION:
URL:https://orstonparish.co.uk/event/core-strength-pilates-14
LOCATION:Village Hall
CATEGORIES:Regular Activities
ORGANIZER;CN="Amanda Marshall":MAILTO:corestrengthpilates@hotmail.com
END:VEVENT
BEGIN:VEVENT
DTSTART;TZID=Europe/London:20241103T090000
DTEND;TZID=Europe/London:20241103T100000
DTSTAMP:20260425T123914
CREATED:20240805T171318Z
LAST-MODIFIED:20240805T171318Z
UID:3329-1730624400-1730628000@orstonparish.co.uk
SUMMARY:Holy Communion
DESCRIPTION:
URL:https://orstonparish.co.uk/event/holy-communion-13
LOCATION:St John of Beverley Church (Whatton)\, Whatton
CATEGORIES:Regular Activities
ORGANIZER;CN="Julian Humpheson":MAILTO:juleshum@gmail.com
END:VEVENT
BEGIN:VEVENT
DTSTART;TZID=Europe/London:20241102T084500
DTEND;TZID=Europe/London:20241102T125000
DTSTAMP:20260425T123914
CREATED:20240806T140618Z
LAST-MODIFIED:20240806T140618Z
UID:3410-1730537100-1730551800@orstonparish.co.uk
SUMMARY:Orston & Bottesford School of Dance
DESCRIPTION:
URL:https://orstonparish.co.uk/event/orston-bottesford-school-of-dance-9
LOCATION:Village Hall
CATEGORIES:Regular Activities
ORGANIZER;CN="Lisa Murray":MAILTO:oandbdance@btinternet.com
END:VEVENT
BEGIN:VEVENT
DTSTART;TZID=Europe/London:20241031T193000
DTEND;TZID=Europe/London:20241031T220000
DTSTAMP:20260425T123914
CREATED:20240805T112024Z
LAST-MODIFIED:20240805T112024Z
UID:3028-1730403000-1730412000@orstonparish.co.uk
SUMMARY:Bridge
DESCRIPTION:
URL:https://orstonparish.co.uk/event/bridge-13
LOCATION:Durham Ox
CATEGORIES:Regular Activities
END:VEVENT
BEGIN:VEVENT
DTSTART;TZID=Europe/London:20241031T184500
DTEND;TZID=Europe/London:20241031T200000
DTSTAMP:20260425T123914
CREATED:20240806T142451Z
LAST-MODIFIED:20240806T142451Z
UID:3432-1730400300-1730404800@orstonparish.co.uk
SUMMARY:Orston Village Choir
DESCRIPTION:
URL:https://orstonparish.co.uk/event/orston-village-choir-9
LOCATION:Thomas Cranmer Centre\, Aslockton
CATEGORIES:Regular Activities
ORGANIZER;CN="Ali Burns":MAILTO:ali.burns@yahoo.co.uk
END:VEVENT
BEGIN:VEVENT
DTSTART;TZID=Europe/London:20241031T100000
DTEND;TZID=Europe/London:20241031T120000
DTSTAMP:20260425T123914
CREATED:20240806T143606Z
LAST-MODIFIED:20240806T143606Z
UID:3482-1730368800-1730376000@orstonparish.co.uk
SUMMARY:Tot Spot
DESCRIPTION:
URL:https://orstonparish.co.uk/event/tot-spot-9
LOCATION:Thomas Cranmer Centre\, Aslockton
CATEGORIES:Regular Activities
ORGANIZER;CN="Clare Chambers":MAILTO:families@cranmergroup.org.uk
END:VEVENT
BEGIN:VEVENT
DTSTART;TZID=Europe/London:20241031T093000
DTEND;TZID=Europe/London:20241031T103000
DTSTAMP:20260425T123914
CREATED:20240806T150559Z
LAST-MODIFIED:20240806T150559Z
UID:3614-1730367000-1730370600@orstonparish.co.uk
SUMMARY:Core Strength Pilates
DESCRIPTION:
URL:https://orstonparish.co.uk/event/core-strength-pilates-107
LOCATION:Village Hall
CATEGORIES:Regular Activities
ORGANIZER;CN="Amanda Marshall":MAILTO:corestrengthpilates@hotmail.com
END:VEVENT
BEGIN:VEVENT
DTSTART;TZID=Europe/London:20241030T190000
DTEND;TZID=Europe/London:20241030T190000
DTSTAMP:20260425T123914
CREATED:20241023T174852Z
LAST-MODIFIED:20241104T125812Z
UID:4380-1730314800-1730314800@orstonparish.co.uk
SUMMARY:Parish Council Meeting
DESCRIPTION:This meeting will be held at Village Hall. Members of the public are welcome to attend; please see the agenda for more details.
URL:https://orstonparish.co.uk/event/parish-council-meeting-5
LOCATION:Village Hall
CATEGORIES:Parish Council Meetings
END:VEVENT
BEGIN:VEVENT
DTSTART;TZID=Europe/London:20241029T200000
DTEND;TZID=Europe/London:20241029T220000
DTSTAMP:20260425T123914
CREATED:20240805T103256Z
LAST-MODIFIED:20240805T103256Z
UID:2949-1730232000-1730239200@orstonparish.co.uk
SUMMARY:Badminton Club
DESCRIPTION:
URL:https://orstonparish.co.uk/event/badminton-club-13
LOCATION:Village Hall
CATEGORIES:Regular Activities
ORGANIZER;CN="Roland Daniels":MAILTO:roland.daniels153@gmail.com
END:VEVENT
BEGIN:VEVENT
DTSTART;TZID=Europe/London:20241029T183000
DTEND;TZID=Europe/London:20241029T193000
DTSTAMP:20260425T123914
CREATED:20240806T150207Z
LAST-MODIFIED:20240806T150207Z
UID:3561-1730226600-1730230200@orstonparish.co.uk
SUMMARY:Core Strength Pilates
DESCRIPTION:
URL:https://orstonparish.co.uk/event/core-strength-pilates-60
LOCATION:Village Hall
CATEGORIES:Regular Activities
ORGANIZER;CN="Amanda Marshall":MAILTO:corestrengthpilates@hotmail.com
END:VEVENT
BEGIN:VEVENT
DTSTART;TZID=Europe/London:20241029T171500
DTEND;TZID=Europe/London:20241029T181500
DTSTAMP:20260425T123914
CREATED:20240806T145251Z
LAST-MODIFIED:20240806T145251Z
UID:3505-1730222100-1730225700@orstonparish.co.uk
SUMMARY:Core Strength Pilates
DESCRIPTION:
URL:https://orstonparish.co.uk/event/core-strength-pilates-13
LOCATION:Village Hall
CATEGORIES:Regular Activities
ORGANIZER;CN="Amanda Marshall":MAILTO:corestrengthpilates@hotmail.com
END:VEVENT
BEGIN:VEVENT
DTSTART;TZID=Europe/London:20241029T093000
DTEND;TZID=Europe/London:20241029T133000
DTSTAMP:20260425T123914
CREATED:20240805T095712Z
LAST-MODIFIED:20241023T181620Z
UID:2926-1730194200-1730208600@orstonparish.co.uk
SUMMARY:Orston Walkers
DESCRIPTION:A circular walk from Cropwell Bishop  going through Colston Bassett and by the ruined church – approx. 5.5 miles\nThe walk starts from Fern Road\, Cropwell Bishop\, by St Giles Church\, NG12 3BU. Fern Road is wide enough for roadside parking at this point. The walk includes sections of the old canal cycle path\, wide grassy tracks\, field paths and short sections of road\, mostly flat with a few gentle inclines. Conditions underfoot are pretty good at the moment and\, with the current forecast\, we should not have any problems.\nUsual meeting place –  0930 Orston Village Hall Car Park for car sharing.\nCropwell Bishop is about a 20 minute drive so please be at the walk start for 0950 if going direct.\nPost walk refreshment options include the new Cropwell Bishop Creamery cafe or a couple of pubs.
URL:https://orstonparish.co.uk/event/orston-walkers-7
LOCATION:Village Hall
CATEGORIES:Regular Activities
ORGANIZER;CN="Pauline Fazackerley":MAILTO:paulinefaz@live.com
END:VEVENT
BEGIN:VEVENT
DTSTART;TZID=Europe/London:20241028T193000
DTEND;TZID=Europe/London:20241028T210000
DTSTAMP:20260425T123914
CREATED:20240829T082543Z
LAST-MODIFIED:20240829T082835Z
UID:4030-1730143800-1730149200@orstonparish.co.uk
SUMMARY:Le Rosbif
DESCRIPTION:
URL:https://orstonparish.co.uk/event/le-rosbif-5
LOCATION:Local Pub TBC
CATEGORIES:Regular Activities
ORGANIZER;CN="Fiona Winfield":MAILTO:fmwinfield@aol.com
END:VEVENT
BEGIN:VEVENT
DTSTART;TZID=Europe/London:20241027T190000
DTEND;TZID=Europe/London:20241027T210000
DTSTAMP:20260425T123914
CREATED:20240806T135145Z
LAST-MODIFIED:20240806T135145Z
UID:3388-1730055600-1730062800@orstonparish.co.uk
SUMMARY:Quiz Night
DESCRIPTION:
URL:https://orstonparish.co.uk/event/quiz-night-3
LOCATION:Durham Ox
CATEGORIES:Regular Activities
ORGANIZER;CN="Durham Ox":MAILTO:thedurhamoxorston@gmail.com
END:VEVENT
BEGIN:VEVENT
DTSTART;TZID=Europe/London:20241027T090000
DTEND;TZID=Europe/London:20241027T100000
DTSTAMP:20260425T123914
CREATED:20240805T171315Z
LAST-MODIFIED:20240805T171315Z
UID:3328-1730019600-1730023200@orstonparish.co.uk
SUMMARY:Holy Communion
DESCRIPTION:
URL:https://orstonparish.co.uk/event/holy-communion-12
LOCATION:St Mary and All Saints Church\, Hawksworth
CATEGORIES:Regular Activities
ORGANIZER;CN="Julian Humpheson":MAILTO:juleshum@gmail.com
END:VEVENT
BEGIN:VEVENT
DTSTART;TZID=Europe/London:20241026T084500
DTEND;TZID=Europe/London:20241026T125000
DTSTAMP:20260425T123914
CREATED:20240806T140615Z
LAST-MODIFIED:20240806T140615Z
UID:3409-1729932300-1729947000@orstonparish.co.uk
SUMMARY:Orston & Bottesford School of Dance
DESCRIPTION:
URL:https://orstonparish.co.uk/event/orston-bottesford-school-of-dance-8
LOCATION:Village Hall
CATEGORIES:Regular Activities
ORGANIZER;CN="Lisa Murray":MAILTO:oandbdance@btinternet.com
END:VEVENT
BEGIN:VEVENT
DTSTART;TZID=Europe/London:20241025T190000
DTEND;TZID=Europe/London:20241025T220000
DTSTAMP:20260425T123914
CREATED:20240830T110853Z
LAST-MODIFIED:20240910T130854Z
UID:4044-1729882800-1729893600@orstonparish.co.uk
SUMMARY:Stormy Weather Boys
DESCRIPTION:
URL:https://orstonparish.co.uk/event/stormy-weather-boys
LOCATION:Village Hall
CATEGORIES:Local Events
ORGANIZER;CN="Maria Nicholas":MAILTO:marianicho@gmail.com
END:VEVENT
BEGIN:VEVENT
DTSTART;TZID=Europe/London:20241024T193000
DTEND;TZID=Europe/London:20241024T220000
DTSTAMP:20260425T123914
CREATED:20240805T112023Z
LAST-MODIFIED:20240805T112023Z
UID:3027-1729798200-1729807200@orstonparish.co.uk
SUMMARY:Bridge
DESCRIPTION:
URL:https://orstonparish.co.uk/event/bridge-12
LOCATION:Durham Ox
CATEGORIES:Regular Activities
END:VEVENT
BEGIN:VEVENT
DTSTART;TZID=Europe/London:20241024T184500
DTEND;TZID=Europe/London:20241024T200000
DTSTAMP:20260425T123914
CREATED:20240806T142448Z
LAST-MODIFIED:20240806T142448Z
UID:3431-1729795500-1729800000@orstonparish.co.uk
SUMMARY:Orston Village Choir
DESCRIPTION:
URL:https://orstonparish.co.uk/event/orston-village-choir-8
LOCATION:Thomas Cranmer Centre\, Aslockton
CATEGORIES:Regular Activities
ORGANIZER;CN="Ali Burns":MAILTO:ali.burns@yahoo.co.uk
END:VEVENT
BEGIN:VEVENT
DTSTART;TZID=Europe/London:20241024T100000
DTEND;TZID=Europe/London:20241024T120000
DTSTAMP:20260425T123914
CREATED:20240806T143603Z
LAST-MODIFIED:20240806T143603Z
UID:3481-1729764000-1729771200@orstonparish.co.uk
SUMMARY:Tot Spot
DESCRIPTION:
URL:https://orstonparish.co.uk/event/tot-spot-8
LOCATION:Thomas Cranmer Centre\, Aslockton
CATEGORIES:Regular Activities
ORGANIZER;CN="Clare Chambers":MAILTO:families@cranmergroup.org.uk
END:VEVENT
END:VCALENDAR