BEGIN:VCALENDAR
VERSION:2.0
PRODID:-//Orston Parish Council - ECPv6.15.20//NONSGML v1.0//EN
CALSCALE:GREGORIAN
METHOD:PUBLISH
X-WR-CALNAME:Orston Parish Council
X-ORIGINAL-URL:https://orstonparish.co.uk
X-WR-CALDESC:Events for Orston Parish Council
REFRESH-INTERVAL;VALUE=DURATION:PT1H
X-Robots-Tag:noindex
X-PUBLISHED-TTL:PT1H
BEGIN:VTIMEZONE
TZID:Europe/London
BEGIN:DAYLIGHT
TZOFFSETFROM:+0000
TZOFFSETTO:+0100
TZNAME:BST
DTSTART:20230326T010000
END:DAYLIGHT
BEGIN:STANDARD
TZOFFSETFROM:+0100
TZOFFSETTO:+0000
TZNAME:GMT
DTSTART:20231029T010000
END:STANDARD
BEGIN:DAYLIGHT
TZOFFSETFROM:+0000
TZOFFSETTO:+0100
TZNAME:BST
DTSTART:20240331T010000
END:DAYLIGHT
BEGIN:STANDARD
TZOFFSETFROM:+0100
TZOFFSETTO:+0000
TZNAME:GMT
DTSTART:20241027T010000
END:STANDARD
BEGIN:DAYLIGHT
TZOFFSETFROM:+0000
TZOFFSETTO:+0100
TZNAME:BST
DTSTART:20250330T010000
END:DAYLIGHT
BEGIN:STANDARD
TZOFFSETFROM:+0100
TZOFFSETTO:+0000
TZNAME:GMT
DTSTART:20251026T010000
END:STANDARD
END:VTIMEZONE
BEGIN:VEVENT
DTSTART;TZID=Europe/London:20240915T090000
DTEND;TZID=Europe/London:20240915T100000
DTSTAMP:20260426T033312
CREATED:20240805T171257Z
LAST-MODIFIED:20240805T171257Z
UID:3322-1726390800-1726394400@orstonparish.co.uk
SUMMARY:Holy Communion
DESCRIPTION:
URL:https://orstonparish.co.uk/event/holy-communion-6
LOCATION:St Mary’s Church\, Orston
CATEGORIES:Regular Activities
ORGANIZER;CN="Julian Humpheson":MAILTO:juleshum@gmail.com
END:VEVENT
BEGIN:VEVENT
DTSTART;TZID=Europe/London:20240914T084500
DTEND;TZID=Europe/London:20240914T125000
DTSTAMP:20260426T033312
CREATED:20240806T140557Z
LAST-MODIFIED:20240806T140557Z
UID:3403-1726303500-1726318200@orstonparish.co.uk
SUMMARY:Orston & Bottesford School of Dance
DESCRIPTION:
URL:https://orstonparish.co.uk/event/orston-bottesford-school-of-dance-2
LOCATION:Village Hall
CATEGORIES:Regular Activities
ORGANIZER;CN="Lisa Murray":MAILTO:oandbdance@btinternet.com
END:VEVENT
BEGIN:VEVENT
DTSTART;TZID=Europe/London:20240913T100000
DTEND;TZID=Europe/London:20240913T120000
DTSTAMP:20260426T033312
CREATED:20240805T165443Z
LAST-MODIFIED:20240805T165443Z
UID:3204-1726221600-1726228800@orstonparish.co.uk
SUMMARY:Coffee Morning
DESCRIPTION:
URL:https://orstonparish.co.uk/event/coffee-morning
LOCATION:Village Hall
CATEGORIES:Regular Activities
ORGANIZER;CN="Maria Nicholas":MAILTO:marianicho@gmail.com
END:VEVENT
BEGIN:VEVENT
DTSTART;TZID=Europe/London:20240912T193000
DTEND;TZID=Europe/London:20240912T220000
DTSTAMP:20260426T033312
CREATED:20240805T112001Z
LAST-MODIFIED:20240805T112001Z
UID:3021-1726169400-1726178400@orstonparish.co.uk
SUMMARY:Bridge
DESCRIPTION:
URL:https://orstonparish.co.uk/event/bridge-6
LOCATION:Durham Ox
CATEGORIES:Regular Activities
END:VEVENT
BEGIN:VEVENT
DTSTART;TZID=Europe/London:20240912T184500
DTEND;TZID=Europe/London:20240912T200000
DTSTAMP:20260426T033312
CREATED:20240806T142429Z
LAST-MODIFIED:20240806T142429Z
UID:3425-1726166700-1726171200@orstonparish.co.uk
SUMMARY:Orston Village Choir
DESCRIPTION:
URL:https://orstonparish.co.uk/event/orston-village-choir-2
LOCATION:Thomas Cranmer Centre\, Aslockton
CATEGORIES:Regular Activities
ORGANIZER;CN="Ali Burns":MAILTO:ali.burns@yahoo.co.uk
END:VEVENT
BEGIN:VEVENT
DTSTART;TZID=Europe/London:20240912T100000
DTEND;TZID=Europe/London:20240912T120000
DTSTAMP:20260426T033312
CREATED:20240806T143541Z
LAST-MODIFIED:20240806T143541Z
UID:3475-1726135200-1726142400@orstonparish.co.uk
SUMMARY:Tot Spot
DESCRIPTION:
URL:https://orstonparish.co.uk/event/tot-spot-2
LOCATION:Thomas Cranmer Centre\, Aslockton
CATEGORIES:Regular Activities
ORGANIZER;CN="Clare Chambers":MAILTO:families@cranmergroup.org.uk
END:VEVENT
BEGIN:VEVENT
DTSTART;TZID=Europe/London:20240912T093000
DTEND;TZID=Europe/London:20240912T103000
DTSTAMP:20260426T033312
CREATED:20240806T150521Z
LAST-MODIFIED:20240806T150537Z
UID:3602-1726133400-1726137000@orstonparish.co.uk
SUMMARY:Core Strength Pilates
DESCRIPTION:
URL:https://orstonparish.co.uk/event/core-strength-pilates-100
LOCATION:Village Hall
CATEGORIES:Regular Activities
ORGANIZER;CN="Amanda Marshall":MAILTO:corestrengthpilates@hotmail.com
END:VEVENT
BEGIN:VEVENT
DTSTART;TZID=Europe/London:20240911T193000
DTEND;TZID=Europe/London:20240911T213000
DTSTAMP:20260426T033312
CREATED:20240805T105449Z
LAST-MODIFIED:20240911T090153Z
UID:2985-1726083000-1726090200@orstonparish.co.uk
SUMMARY:Orston and Thoroton Women's Institute
DESCRIPTION:We have Graham Keal presenting a talk called ‘Oprah Winfrey touched my elbow’!\nVisitors welcome – £5 incl refreshments and raffle ticket
URL:https://orstonparish.co.uk/event/orston-and-thoroton-womens-institute
LOCATION:Village Hall
CATEGORIES:Regular Activities
END:VEVENT
BEGIN:VEVENT
DTSTART;TZID=Europe/London:20240910T200000
DTEND;TZID=Europe/London:20240910T220000
DTSTAMP:20260426T033312
CREATED:20240805T103235Z
LAST-MODIFIED:20240805T103235Z
UID:2942-1725998400-1726005600@orstonparish.co.uk
SUMMARY:Badminton Club
DESCRIPTION:
URL:https://orstonparish.co.uk/event/badminton-club-6
LOCATION:Village Hall
CATEGORIES:Regular Activities
ORGANIZER;CN="Roland Daniels":MAILTO:roland.daniels153@gmail.com
END:VEVENT
BEGIN:VEVENT
DTSTART;TZID=Europe/London:20240910T183000
DTEND;TZID=Europe/London:20240910T193000
DTSTAMP:20260426T033312
CREATED:20240806T150121Z
LAST-MODIFIED:20240806T150137Z
UID:3549-1725993000-1725996600@orstonparish.co.uk
SUMMARY:Core Strength Pilates
DESCRIPTION:
URL:https://orstonparish.co.uk/event/core-strength-pilates-53
LOCATION:Village Hall
CATEGORIES:Regular Activities
ORGANIZER;CN="Amanda Marshall":MAILTO:corestrengthpilates@hotmail.com
END:VEVENT
BEGIN:VEVENT
DTSTART;TZID=Europe/London:20240910T171500
DTEND;TZID=Europe/London:20240910T181500
DTSTAMP:20260426T033312
CREATED:20240806T145227Z
LAST-MODIFIED:20240806T145227Z
UID:3498-1725988500-1725992100@orstonparish.co.uk
SUMMARY:Core Strength Pilates
DESCRIPTION:
URL:https://orstonparish.co.uk/event/core-strength-pilates-6
LOCATION:Village Hall
CATEGORIES:Regular Activities
ORGANIZER;CN="Amanda Marshall":MAILTO:corestrengthpilates@hotmail.com
END:VEVENT
BEGIN:VEVENT
DTSTART;TZID=Europe/London:20240908T090000
DTEND;TZID=Europe/London:20240908T100000
DTSTAMP:20260426T033312
CREATED:20240805T171253Z
LAST-MODIFIED:20240805T171253Z
UID:3321-1725786000-1725789600@orstonparish.co.uk
SUMMARY:Holy Communion
DESCRIPTION:
URL:https://orstonparish.co.uk/event/holy-communion-5
LOCATION:St Helena Church\, Thoroton
CATEGORIES:Regular Activities
ORGANIZER;CN="Julian Humpheson":MAILTO:juleshum@gmail.com
END:VEVENT
BEGIN:VEVENT
DTSTART;TZID=Europe/London:20240907T084500
DTEND;TZID=Europe/London:20240907T125000
DTSTAMP:20260426T033312
CREATED:20240806T140554Z
LAST-MODIFIED:20240806T140554Z
UID:3402-1725698700-1725713400@orstonparish.co.uk
SUMMARY:Orston & Bottesford School of Dance
DESCRIPTION:
URL:https://orstonparish.co.uk/event/orston-bottesford-school-of-dance
LOCATION:Village Hall
CATEGORIES:Regular Activities
ORGANIZER;CN="Lisa Murray":MAILTO:oandbdance@btinternet.com
END:VEVENT
BEGIN:VEVENT
DTSTART;TZID=Europe/London:20240905T193000
DTEND;TZID=Europe/London:20240905T220000
DTSTAMP:20260426T033312
CREATED:20240805T111956Z
LAST-MODIFIED:20240805T111956Z
UID:3020-1725564600-1725573600@orstonparish.co.uk
SUMMARY:Bridge
DESCRIPTION:
URL:https://orstonparish.co.uk/event/bridge-5
LOCATION:Durham Ox
CATEGORIES:Regular Activities
END:VEVENT
BEGIN:VEVENT
DTSTART;TZID=Europe/London:20240905T184500
DTEND;TZID=Europe/London:20240905T200000
DTSTAMP:20260426T033312
CREATED:20240806T142426Z
LAST-MODIFIED:20240806T142426Z
UID:3424-1725561900-1725566400@orstonparish.co.uk
SUMMARY:Orston Village Choir
DESCRIPTION:
URL:https://orstonparish.co.uk/event/orston-village-choir
LOCATION:Thomas Cranmer Centre\, Aslockton
CATEGORIES:Regular Activities
ORGANIZER;CN="Ali Burns":MAILTO:ali.burns@yahoo.co.uk
END:VEVENT
BEGIN:VEVENT
DTSTART;TZID=Europe/London:20240905T100000
DTEND;TZID=Europe/London:20240905T120000
DTSTAMP:20260426T033312
CREATED:20240806T143538Z
LAST-MODIFIED:20240806T143538Z
UID:3474-1725530400-1725537600@orstonparish.co.uk
SUMMARY:Tot Spot
DESCRIPTION:
URL:https://orstonparish.co.uk/event/tot-spot
LOCATION:Thomas Cranmer Centre\, Aslockton
CATEGORIES:Regular Activities
ORGANIZER;CN="Clare Chambers":MAILTO:families@cranmergroup.org.uk
END:VEVENT
BEGIN:VEVENT
DTSTART;TZID=Europe/London:20240905T093000
DTEND;TZID=Europe/London:20240905T103000
DTSTAMP:20260426T033312
CREATED:20240806T150516Z
LAST-MODIFIED:20240806T150516Z
UID:3601-1725528600-1725532200@orstonparish.co.uk
SUMMARY:Core Strength Pilates
DESCRIPTION:
URL:https://orstonparish.co.uk/event/core-strength-pilates-99
LOCATION:Village Hall
CATEGORIES:Regular Activities
ORGANIZER;CN="Amanda Marshall":MAILTO:corestrengthpilates@hotmail.com
END:VEVENT
BEGIN:VEVENT
DTSTART;TZID=Europe/London:20240903T200000
DTEND;TZID=Europe/London:20240903T220000
DTSTAMP:20260426T033312
CREATED:20240805T103231Z
LAST-MODIFIED:20240805T103231Z
UID:2941-1725393600-1725400800@orstonparish.co.uk
SUMMARY:Badminton Club
DESCRIPTION:
URL:https://orstonparish.co.uk/event/badminton-club-5
LOCATION:Village Hall
CATEGORIES:Regular Activities
ORGANIZER;CN="Roland Daniels":MAILTO:roland.daniels153@gmail.com
END:VEVENT
BEGIN:VEVENT
DTSTART;TZID=Europe/London:20240903T183000
DTEND;TZID=Europe/London:20240903T193000
DTSTAMP:20260426T033312
CREATED:20240806T150115Z
LAST-MODIFIED:20240806T150115Z
UID:3548-1725388200-1725391800@orstonparish.co.uk
SUMMARY:Core Strength Pilates
DESCRIPTION:
URL:https://orstonparish.co.uk/event/core-strength-pilates-52
LOCATION:Village Hall
CATEGORIES:Regular Activities
ORGANIZER;CN="Amanda Marshall":MAILTO:corestrengthpilates@hotmail.com
END:VEVENT
BEGIN:VEVENT
DTSTART;TZID=Europe/London:20240903T171500
DTEND;TZID=Europe/London:20240903T181500
DTSTAMP:20260426T033312
CREATED:20240806T145223Z
LAST-MODIFIED:20240806T145223Z
UID:3497-1725383700-1725387300@orstonparish.co.uk
SUMMARY:Core Strength Pilates
DESCRIPTION:
URL:https://orstonparish.co.uk/event/core-strength-pilates-5
LOCATION:Village Hall
CATEGORIES:Regular Activities
ORGANIZER;CN="Amanda Marshall":MAILTO:corestrengthpilates@hotmail.com
END:VEVENT
BEGIN:VEVENT
DTSTART;TZID=Europe/London:20240903T093000
DTEND;TZID=Europe/London:20240903T133000
DTSTAMP:20260426T033312
CREATED:20240805T095700Z
LAST-MODIFIED:20240827T135146Z
UID:2922-1725355800-1725370200@orstonparish.co.uk
SUMMARY:Orston Walkers
DESCRIPTION:The walk will start from the junction of Casthorpe Road\, Church Street and Main Street in Denton. There is plenty of roadside parking at that end of Main Street.\n\nThe walk is about 5.6 miles and will take us along the side of Denton Reservoir\, field paths to Harlaxton Bridge (on the canal)\, along the towpath back to Casthorpe Bridge\, then across field paths to the cycle track back to Denton.\n\nIf anyone wants a shorter walk\, there are several alternatives including a 4.2 mile route returning via Denton Bridge or just a simple circuit round the reservoir.\n\nUsual meeting place – 0930 Orston Village Hall Car Park. Denton is a 15-20 minute drive from Orston\, so please be at the start point for 0945 if going direct.
URL:https://orstonparish.co.uk/event/orston-walkers-3
LOCATION:Village Hall
CATEGORIES:Regular Activities
ORGANIZER;CN="Pauline Fazackerley":MAILTO:paulinefaz@live.com
END:VEVENT
BEGIN:VEVENT
DTSTART;TZID=Europe/London:20240902T193000
DTEND;TZID=Europe/London:20240902T210000
DTSTAMP:20260426T033312
CREATED:20240829T081740Z
LAST-MODIFIED:20240829T082837Z
UID:4010-1725305400-1725310800@orstonparish.co.uk
SUMMARY:Le Rosbif
DESCRIPTION:
URL:https://orstonparish.co.uk/event/le-rosbif
LOCATION:Wheatsheaf\, Bingham
CATEGORIES:Regular Activities
ORGANIZER;CN="Fiona Winfield":MAILTO:fmwinfield@aol.com
END:VEVENT
BEGIN:VEVENT
DTSTART;TZID=Europe/London:20240901T090000
DTEND;TZID=Europe/London:20240901T100000
DTSTAMP:20260426T033312
CREATED:20240805T171250Z
LAST-MODIFIED:20240805T171250Z
UID:3320-1725181200-1725184800@orstonparish.co.uk
SUMMARY:Holy Communion
DESCRIPTION:
URL:https://orstonparish.co.uk/event/holy-communion-4
LOCATION:St John of Beverley Church (Whatton)\, Whatton
CATEGORIES:Regular Activities
ORGANIZER;CN="Julian Humpheson":MAILTO:juleshum@gmail.com
END:VEVENT
BEGIN:VEVENT
DTSTART;TZID=Europe/London:20240829T193000
DTEND;TZID=Europe/London:20240829T220000
DTSTAMP:20260426T033312
CREATED:20240805T111953Z
LAST-MODIFIED:20240805T111953Z
UID:3019-1724959800-1724968800@orstonparish.co.uk
SUMMARY:Bridge
DESCRIPTION:
URL:https://orstonparish.co.uk/event/bridge-4
LOCATION:Durham Ox
CATEGORIES:Regular Activities
END:VEVENT
BEGIN:VEVENT
DTSTART;TZID=Europe/London:20240829T093000
DTEND;TZID=Europe/London:20240829T103000
DTSTAMP:20260426T033312
CREATED:20240806T150512Z
LAST-MODIFIED:20240806T150512Z
UID:3600-1724923800-1724927400@orstonparish.co.uk
SUMMARY:Core Strength Pilates
DESCRIPTION:
URL:https://orstonparish.co.uk/event/core-strength-pilates-98
LOCATION:Village Hall
CATEGORIES:Regular Activities
ORGANIZER;CN="Amanda Marshall":MAILTO:corestrengthpilates@hotmail.com
END:VEVENT
BEGIN:VEVENT
DTSTART;TZID=Europe/London:20240827T200000
DTEND;TZID=Europe/London:20240827T220000
DTSTAMP:20260426T033312
CREATED:20240805T103228Z
LAST-MODIFIED:20240805T103228Z
UID:2940-1724788800-1724796000@orstonparish.co.uk
SUMMARY:Badminton Club
DESCRIPTION:
URL:https://orstonparish.co.uk/event/badminton-club-4
LOCATION:Village Hall
CATEGORIES:Regular Activities
ORGANIZER;CN="Roland Daniels":MAILTO:roland.daniels153@gmail.com
END:VEVENT
BEGIN:VEVENT
DTSTART;TZID=Europe/London:20240827T183000
DTEND;TZID=Europe/London:20240827T193000
DTSTAMP:20260426T033312
CREATED:20240806T150111Z
LAST-MODIFIED:20240806T150111Z
UID:3547-1724783400-1724787000@orstonparish.co.uk
SUMMARY:Core Strength Pilates
DESCRIPTION:
URL:https://orstonparish.co.uk/event/core-strength-pilates-51
LOCATION:Village Hall
CATEGORIES:Regular Activities
ORGANIZER;CN="Amanda Marshall":MAILTO:corestrengthpilates@hotmail.com
END:VEVENT
BEGIN:VEVENT
DTSTART;TZID=Europe/London:20240827T171500
DTEND;TZID=Europe/London:20240827T181500
DTSTAMP:20260426T033312
CREATED:20240806T145220Z
LAST-MODIFIED:20240806T145220Z
UID:3496-1724778900-1724782500@orstonparish.co.uk
SUMMARY:Core Strength Pilates
DESCRIPTION:
URL:https://orstonparish.co.uk/event/core-strength-pilates-4
LOCATION:Village Hall
CATEGORIES:Regular Activities
ORGANIZER;CN="Amanda Marshall":MAILTO:corestrengthpilates@hotmail.com
END:VEVENT
BEGIN:VEVENT
DTSTART;TZID=Europe/London:20240825T190000
DTEND;TZID=Europe/London:20240825T210000
DTSTAMP:20260426T033312
CREATED:20240806T135139Z
LAST-MODIFIED:20240806T135139Z
UID:3386-1724612400-1724619600@orstonparish.co.uk
SUMMARY:Quiz Night
DESCRIPTION:
URL:https://orstonparish.co.uk/event/quiz-night
LOCATION:Durham Ox
CATEGORIES:Regular Activities
ORGANIZER;CN="Durham Ox":MAILTO:thedurhamoxorston@gmail.com
END:VEVENT
BEGIN:VEVENT
DTSTART;TZID=Europe/London:20240825T090000
DTEND;TZID=Europe/London:20240825T100000
DTSTAMP:20260426T033312
CREATED:20240805T171247Z
LAST-MODIFIED:20240805T171247Z
UID:3319-1724576400-1724580000@orstonparish.co.uk
SUMMARY:Holy Communion
DESCRIPTION:
URL:https://orstonparish.co.uk/event/holy-communion-3
LOCATION:St Mary and All Saints Church\, Hawksworth
CATEGORIES:Regular Activities
ORGANIZER;CN="Julian Humpheson":MAILTO:juleshum@gmail.com
END:VEVENT
END:VCALENDAR