BEGIN:VCALENDAR
VERSION:2.0
PRODID:-//Orston Parish Council - ECPv6.15.18//NONSGML v1.0//EN
CALSCALE:GREGORIAN
METHOD:PUBLISH
X-WR-CALNAME:Orston Parish Council
X-ORIGINAL-URL:https://orstonparish.co.uk
X-WR-CALDESC:Events for Orston Parish Council
REFRESH-INTERVAL;VALUE=DURATION:PT1H
X-Robots-Tag:noindex
X-PUBLISHED-TTL:PT1H
BEGIN:VTIMEZONE
TZID:Europe/London
BEGIN:DAYLIGHT
TZOFFSETFROM:+0000
TZOFFSETTO:+0100
TZNAME:BST
DTSTART:20240331T010000
END:DAYLIGHT
BEGIN:STANDARD
TZOFFSETFROM:+0100
TZOFFSETTO:+0000
TZNAME:GMT
DTSTART:20241027T010000
END:STANDARD
BEGIN:DAYLIGHT
TZOFFSETFROM:+0000
TZOFFSETTO:+0100
TZNAME:BST
DTSTART:20250330T010000
END:DAYLIGHT
BEGIN:STANDARD
TZOFFSETFROM:+0100
TZOFFSETTO:+0000
TZNAME:GMT
DTSTART:20251026T010000
END:STANDARD
BEGIN:DAYLIGHT
TZOFFSETFROM:+0000
TZOFFSETTO:+0100
TZNAME:BST
DTSTART:20260329T010000
END:DAYLIGHT
BEGIN:STANDARD
TZOFFSETFROM:+0100
TZOFFSETTO:+0000
TZNAME:GMT
DTSTART:20261025T010000
END:STANDARD
END:VTIMEZONE
BEGIN:VEVENT
DTSTART;TZID=Europe/London:20250522T093000
DTEND;TZID=Europe/London:20250522T103000
DTSTAMP:20260420T192744
CREATED:20240806T150741Z
LAST-MODIFIED:20240806T150741Z
UID:3643-1747906200-1747909800@orstonparish.co.uk
SUMMARY:Core Strength Pilates
DESCRIPTION:
URL:https://orstonparish.co.uk/event/core-strength-pilates-136
LOCATION:Village Hall
CATEGORIES:Regular Activities
ORGANIZER;CN="Amanda Marshall":MAILTO:corestrengthpilates@hotmail.com
END:VEVENT
BEGIN:VEVENT
DTSTART;TZID=Europe/London:20250521T193000
DTEND;TZID=Europe/London:20250521T213000
DTSTAMP:20260420T192744
CREATED:20240805T110618Z
LAST-MODIFIED:20240805T110618Z
UID:3008-1747855800-1747863000@orstonparish.co.uk
SUMMARY:Orston Garden Club
DESCRIPTION:
URL:https://orstonparish.co.uk/event/orston-garden-club-9
LOCATION:Village Hall
CATEGORIES:Regular Activities
ORGANIZER;CN="Anne Hounslow":MAILTO:anne.hounslow@btinternet.com
END:VEVENT
BEGIN:VEVENT
DTSTART;TZID=Europe/London:20250520T200000
DTEND;TZID=Europe/London:20250520T220000
DTSTAMP:20260420T192744
CREATED:20240805T103429Z
LAST-MODIFIED:20240805T103429Z
UID:2978-1747771200-1747778400@orstonparish.co.uk
SUMMARY:Badminton Club
DESCRIPTION:
URL:https://orstonparish.co.uk/event/badminton-club-42
LOCATION:Village Hall
CATEGORIES:Regular Activities
ORGANIZER;CN="Roland Daniels":MAILTO:roland.daniels153@gmail.com
END:VEVENT
BEGIN:VEVENT
DTSTART;TZID=Europe/London:20250520T183000
DTEND;TZID=Europe/London:20250520T193000
DTSTAMP:20260420T192744
CREATED:20240806T150343Z
LAST-MODIFIED:20240806T150343Z
UID:3590-1747765800-1747769400@orstonparish.co.uk
SUMMARY:Core Strength Pilates
DESCRIPTION:
URL:https://orstonparish.co.uk/event/core-strength-pilates-89
LOCATION:Village Hall
CATEGORIES:Regular Activities
ORGANIZER;CN="Amanda Marshall":MAILTO:corestrengthpilates@hotmail.com
END:VEVENT
BEGIN:VEVENT
DTSTART;TZID=Europe/London:20250520T171500
DTEND;TZID=Europe/London:20250520T181500
DTSTAMP:20260420T192744
CREATED:20240806T145834Z
LAST-MODIFIED:20240806T145834Z
UID:3534-1747761300-1747764900@orstonparish.co.uk
SUMMARY:Core Strength Pilates
DESCRIPTION:
URL:https://orstonparish.co.uk/event/core-strength-pilates-42
LOCATION:Village Hall
CATEGORIES:Regular Activities
ORGANIZER;CN="Amanda Marshall":MAILTO:corestrengthpilates@hotmail.com
END:VEVENT
BEGIN:VEVENT
DTSTART;TZID=Europe/London:20250518T090000
DTEND;TZID=Europe/London:20250518T100000
DTSTAMP:20260420T192744
CREATED:20240805T171453Z
LAST-MODIFIED:20240805T171453Z
UID:3357-1747558800-1747562400@orstonparish.co.uk
SUMMARY:Holy Communion
DESCRIPTION:
URL:https://orstonparish.co.uk/event/holy-communion-41
LOCATION:St Mary’s Church\, Orston
CATEGORIES:Regular Activities
ORGANIZER;CN="Julian Humpheson":MAILTO:juleshum@gmail.com
END:VEVENT
BEGIN:VEVENT
DTSTART;TZID=Europe/London:20250515T193000
DTEND;TZID=Europe/London:20250515T220000
DTSTAMP:20260420T192744
CREATED:20240805T112206Z
LAST-MODIFIED:20240805T112206Z
UID:3056-1747337400-1747346400@orstonparish.co.uk
SUMMARY:Bridge
DESCRIPTION:
URL:https://orstonparish.co.uk/event/bridge-41
LOCATION:Durham Ox
CATEGORIES:Regular Activities
END:VEVENT
BEGIN:VEVENT
DTSTART;TZID=Europe/London:20250515T184500
DTEND;TZID=Europe/London:20250515T200000
DTSTAMP:20260420T192744
CREATED:20240806T142639Z
LAST-MODIFIED:20240806T142639Z
UID:3460-1747334700-1747339200@orstonparish.co.uk
SUMMARY:Orston Village Choir
DESCRIPTION:
URL:https://orstonparish.co.uk/event/orston-village-choir-37
LOCATION:Thomas Cranmer Centre\, Aslockton
CATEGORIES:Regular Activities
ORGANIZER;CN="Ali Burns":MAILTO:ali.burns@yahoo.co.uk
END:VEVENT
BEGIN:VEVENT
DTSTART;TZID=Europe/London:20250515T093000
DTEND;TZID=Europe/London:20250515T103000
DTSTAMP:20260420T192744
CREATED:20240806T150738Z
LAST-MODIFIED:20240806T150738Z
UID:3642-1747301400-1747305000@orstonparish.co.uk
SUMMARY:Core Strength Pilates
DESCRIPTION:
URL:https://orstonparish.co.uk/event/core-strength-pilates-135
LOCATION:Village Hall
CATEGORIES:Regular Activities
ORGANIZER;CN="Amanda Marshall":MAILTO:corestrengthpilates@hotmail.com
END:VEVENT
BEGIN:VEVENT
DTSTART;TZID=Europe/London:20250514T193000
DTEND;TZID=Europe/London:20250514T213000
DTSTAMP:20260420T192744
CREATED:20240805T105515Z
LAST-MODIFIED:20240805T105515Z
UID:2993-1747251000-1747258200@orstonparish.co.uk
SUMMARY:Orston and Thoroton Women's Institute
DESCRIPTION:
URL:https://orstonparish.co.uk/event/orston-and-thoroton-womens-institute-9
LOCATION:Village Hall
CATEGORIES:Regular Activities
END:VEVENT
BEGIN:VEVENT
DTSTART;TZID=Europe/London:20250513T200000
DTEND;TZID=Europe/London:20250513T220000
DTSTAMP:20260420T192744
CREATED:20240805T103425Z
LAST-MODIFIED:20240805T103425Z
UID:2977-1747166400-1747173600@orstonparish.co.uk
SUMMARY:Badminton Club
DESCRIPTION:
URL:https://orstonparish.co.uk/event/badminton-club-41
LOCATION:Village Hall
CATEGORIES:Regular Activities
ORGANIZER;CN="Roland Daniels":MAILTO:roland.daniels153@gmail.com
END:VEVENT
BEGIN:VEVENT
DTSTART;TZID=Europe/London:20250513T183000
DTEND;TZID=Europe/London:20250513T193000
DTSTAMP:20260420T192744
CREATED:20240806T150341Z
LAST-MODIFIED:20240806T150341Z
UID:3589-1747161000-1747164600@orstonparish.co.uk
SUMMARY:Core Strength Pilates
DESCRIPTION:
URL:https://orstonparish.co.uk/event/core-strength-pilates-88
LOCATION:Village Hall
CATEGORIES:Regular Activities
ORGANIZER;CN="Amanda Marshall":MAILTO:corestrengthpilates@hotmail.com
END:VEVENT
BEGIN:VEVENT
DTSTART;TZID=Europe/London:20250513T171500
DTEND;TZID=Europe/London:20250513T181500
DTSTAMP:20260420T192744
CREATED:20240806T145831Z
LAST-MODIFIED:20240806T145831Z
UID:3533-1747156500-1747160100@orstonparish.co.uk
SUMMARY:Core Strength Pilates
DESCRIPTION:
URL:https://orstonparish.co.uk/event/core-strength-pilates-41
LOCATION:Village Hall
CATEGORIES:Regular Activities
ORGANIZER;CN="Amanda Marshall":MAILTO:corestrengthpilates@hotmail.com
END:VEVENT
BEGIN:VEVENT
DTSTART;TZID=Europe/London:20250513T132500
DTEND;TZID=Europe/London:20250513T141000
DTSTAMP:20260420T192744
CREATED:20250217T165650Z
LAST-MODIFIED:20250217T165650Z
UID:4883-1747142700-1747145400@orstonparish.co.uk
SUMMARY:Mobile Library
DESCRIPTION:
URL:https://orstonparish.co.uk/event/mobile-library-15
LOCATION:Church Green
CATEGORIES:Regular Activities
ORGANIZER;CN="Inspire":MAILTO:southwell.library@inspireculture.org.uk
END:VEVENT
BEGIN:VEVENT
DTSTART;TZID=Europe/London:20250513T093000
DTEND;TZID=Europe/London:20250513T133000
DTSTAMP:20260420T192744
CREATED:20240806T091904Z
LAST-MODIFIED:20240806T091904Z
UID:3376-1747128600-1747143000@orstonparish.co.uk
SUMMARY:Orston Walkers
DESCRIPTION:
URL:https://orstonparish.co.uk/event/orston-walkers-19
LOCATION:Village Hall
CATEGORIES:Regular Activities
ORGANIZER;CN="Pauline Fazackerley":MAILTO:paulinefaz@live.com
END:VEVENT
BEGIN:VEVENT
DTSTART;TZID=Europe/London:20250511T090000
DTEND;TZID=Europe/London:20250511T100000
DTSTAMP:20260420T192744
CREATED:20240805T171447Z
LAST-MODIFIED:20240805T171447Z
UID:3356-1746954000-1746957600@orstonparish.co.uk
SUMMARY:Holy Communion
DESCRIPTION:
URL:https://orstonparish.co.uk/event/holy-communion-40
LOCATION:St Helena Church\, Thoroton
CATEGORIES:Regular Activities
ORGANIZER;CN="Julian Humpheson":MAILTO:juleshum@gmail.com
END:VEVENT
BEGIN:VEVENT
DTSTART;TZID=Europe/London:20250509T100000
DTEND;TZID=Europe/London:20250509T120000
DTSTAMP:20260420T192744
CREATED:20240805T165508Z
LAST-MODIFIED:20240805T165524Z
UID:3212-1746784800-1746792000@orstonparish.co.uk
SUMMARY:Coffee Morning
DESCRIPTION:
URL:https://orstonparish.co.uk/event/coffee-morning-9
LOCATION:Village Hall
CATEGORIES:Regular Activities
ORGANIZER;CN="Maria Nicholas":MAILTO:marianicho@gmail.com
END:VEVENT
BEGIN:VEVENT
DTSTART;TZID=Europe/London:20250508T193000
DTEND;TZID=Europe/London:20250508T220000
DTSTAMP:20260420T192744
CREATED:20240805T112200Z
LAST-MODIFIED:20240805T112200Z
UID:3055-1746732600-1746741600@orstonparish.co.uk
SUMMARY:Bridge
DESCRIPTION:
URL:https://orstonparish.co.uk/event/bridge-40
LOCATION:Durham Ox
CATEGORIES:Regular Activities
END:VEVENT
BEGIN:VEVENT
DTSTART;TZID=Europe/London:20250508T184500
DTEND;TZID=Europe/London:20250508T200000
DTSTAMP:20260420T192744
CREATED:20240806T142638Z
LAST-MODIFIED:20240806T142638Z
UID:3459-1746729900-1746734400@orstonparish.co.uk
SUMMARY:Orston Village Choir
DESCRIPTION:
URL:https://orstonparish.co.uk/event/orston-village-choir-36
LOCATION:Thomas Cranmer Centre\, Aslockton
CATEGORIES:Regular Activities
ORGANIZER;CN="Ali Burns":MAILTO:ali.burns@yahoo.co.uk
END:VEVENT
BEGIN:VEVENT
DTSTART;TZID=Europe/London:20250508T140000
DTEND;TZID=Europe/London:20250508T163000
DTSTAMP:20260420T192744
CREATED:20250424T150514Z
LAST-MODIFIED:20250424T150514Z
UID:5197-1746712800-1746721800@orstonparish.co.uk
SUMMARY:VE Day 80 Celebration
DESCRIPTION:VEDay80-Poster1_2
URL:https://orstonparish.co.uk/event/ve-day-80-celebration
LOCATION:Village Hall
CATEGORIES:Local Events
END:VEVENT
BEGIN:VEVENT
DTSTART;TZID=Europe/London:20250508T093000
DTEND;TZID=Europe/London:20250508T103000
DTSTAMP:20260420T192744
CREATED:20240806T150729Z
LAST-MODIFIED:20240806T150729Z
UID:3641-1746696600-1746700200@orstonparish.co.uk
SUMMARY:Core Strength Pilates
DESCRIPTION:
URL:https://orstonparish.co.uk/event/core-strength-pilates-134
LOCATION:Village Hall
CATEGORIES:Regular Activities
ORGANIZER;CN="Amanda Marshall":MAILTO:corestrengthpilates@hotmail.com
END:VEVENT
BEGIN:VEVENT
DTSTART;TZID=Europe/London:20250506T200000
DTEND;TZID=Europe/London:20250506T220000
DTSTAMP:20260420T192744
CREATED:20240805T103419Z
LAST-MODIFIED:20240805T103419Z
UID:2976-1746561600-1746568800@orstonparish.co.uk
SUMMARY:Badminton Club
DESCRIPTION:
URL:https://orstonparish.co.uk/event/badminton-club-40
LOCATION:Village Hall
CATEGORIES:Regular Activities
ORGANIZER;CN="Roland Daniels":MAILTO:roland.daniels153@gmail.com
END:VEVENT
BEGIN:VEVENT
DTSTART;TZID=Europe/London:20250506T183000
DTEND;TZID=Europe/London:20250506T193000
DTSTAMP:20260420T192744
CREATED:20240806T150337Z
LAST-MODIFIED:20240806T150337Z
UID:3588-1746556200-1746559800@orstonparish.co.uk
SUMMARY:Core Strength Pilates
DESCRIPTION:
URL:https://orstonparish.co.uk/event/core-strength-pilates-87
LOCATION:Village Hall
CATEGORIES:Regular Activities
ORGANIZER;CN="Amanda Marshall":MAILTO:corestrengthpilates@hotmail.com
END:VEVENT
BEGIN:VEVENT
DTSTART;TZID=Europe/London:20250506T171500
DTEND;TZID=Europe/London:20250506T181500
DTSTAMP:20260420T192744
CREATED:20240806T145825Z
LAST-MODIFIED:20240806T145825Z
UID:3532-1746551700-1746555300@orstonparish.co.uk
SUMMARY:Core Strength Pilates
DESCRIPTION:
URL:https://orstonparish.co.uk/event/core-strength-pilates-40
LOCATION:Village Hall
CATEGORIES:Regular Activities
ORGANIZER;CN="Amanda Marshall":MAILTO:corestrengthpilates@hotmail.com
END:VEVENT
BEGIN:VEVENT
DTSTART;TZID=Europe/London:20250504T090000
DTEND;TZID=Europe/London:20250504T100000
DTSTAMP:20260420T192744
CREATED:20240805T171445Z
LAST-MODIFIED:20240805T171445Z
UID:3355-1746349200-1746352800@orstonparish.co.uk
SUMMARY:Holy Communion
DESCRIPTION:
URL:https://orstonparish.co.uk/event/holy-communion-39
LOCATION:St John of Beverley Church (Whatton)\, Whatton
CATEGORIES:Regular Activities
ORGANIZER;CN="Julian Humpheson":MAILTO:juleshum@gmail.com
END:VEVENT
BEGIN:VEVENT
DTSTART;TZID=Europe/London:20250501T193000
DTEND;TZID=Europe/London:20250501T220000
DTSTAMP:20260420T192744
CREATED:20240805T112157Z
LAST-MODIFIED:20240805T112157Z
UID:3054-1746127800-1746136800@orstonparish.co.uk
SUMMARY:Bridge
DESCRIPTION:
URL:https://orstonparish.co.uk/event/bridge-39
LOCATION:Durham Ox
CATEGORIES:Regular Activities
END:VEVENT
BEGIN:VEVENT
DTSTART;TZID=Europe/London:20250501T184500
DTEND;TZID=Europe/London:20250501T200000
DTSTAMP:20260420T192744
CREATED:20240806T142620Z
LAST-MODIFIED:20240806T142620Z
UID:3458-1746125100-1746129600@orstonparish.co.uk
SUMMARY:Orston Village Choir
DESCRIPTION:
URL:https://orstonparish.co.uk/event/orston-village-choir-35
LOCATION:Thomas Cranmer Centre\, Aslockton
CATEGORIES:Regular Activities
ORGANIZER;CN="Ali Burns":MAILTO:ali.burns@yahoo.co.uk
END:VEVENT
BEGIN:VEVENT
DTSTART;TZID=Europe/London:20250501T093000
DTEND;TZID=Europe/London:20250501T103000
DTSTAMP:20260420T192744
CREATED:20240806T150726Z
LAST-MODIFIED:20240806T150726Z
UID:3640-1746091800-1746095400@orstonparish.co.uk
SUMMARY:Core Strength Pilates
DESCRIPTION:
URL:https://orstonparish.co.uk/event/core-strength-pilates-133
LOCATION:Village Hall
CATEGORIES:Regular Activities
ORGANIZER;CN="Amanda Marshall":MAILTO:corestrengthpilates@hotmail.com
END:VEVENT
BEGIN:VEVENT
DTSTART;TZID=Europe/London:20250430T190000
DTEND;TZID=Europe/London:20250430T190000
DTSTAMP:20260420T192744
CREATED:20250419T170913Z
LAST-MODIFIED:20250506T105418Z
UID:5158-1746039600-1746039600@orstonparish.co.uk
SUMMARY:Parish Council Meeting
DESCRIPTION:This meeting will be held at Village Hall. Members of the public are welcome to attend; please see the agenda for more details.
URL:https://orstonparish.co.uk/event/parish-council-meeting-6
LOCATION:Village Hall
CATEGORIES:Parish Council Meetings
END:VEVENT
BEGIN:VEVENT
DTSTART;TZID=Europe/London:20250429T200000
DTEND;TZID=Europe/London:20250429T220000
DTSTAMP:20260420T192744
CREATED:20240805T103416Z
LAST-MODIFIED:20240805T103416Z
UID:2975-1745956800-1745964000@orstonparish.co.uk
SUMMARY:Badminton Club
DESCRIPTION:
URL:https://orstonparish.co.uk/event/badminton-club-39
LOCATION:Village Hall
CATEGORIES:Regular Activities
ORGANIZER;CN="Roland Daniels":MAILTO:roland.daniels153@gmail.com
END:VEVENT
END:VCALENDAR