BEGIN:VCALENDAR
VERSION:2.0
PRODID:-//Orston Parish Council - ECPv6.15.18//NONSGML v1.0//EN
CALSCALE:GREGORIAN
METHOD:PUBLISH
X-WR-CALNAME:Orston Parish Council
X-ORIGINAL-URL:https://orstonparish.co.uk
X-WR-CALDESC:Events for Orston Parish Council
REFRESH-INTERVAL;VALUE=DURATION:PT1H
X-Robots-Tag:noindex
X-PUBLISHED-TTL:PT1H
BEGIN:VTIMEZONE
TZID:Europe/London
BEGIN:DAYLIGHT
TZOFFSETFROM:+0000
TZOFFSETTO:+0100
TZNAME:BST
DTSTART:20240331T010000
END:DAYLIGHT
BEGIN:STANDARD
TZOFFSETFROM:+0100
TZOFFSETTO:+0000
TZNAME:GMT
DTSTART:20241027T010000
END:STANDARD
BEGIN:DAYLIGHT
TZOFFSETFROM:+0000
TZOFFSETTO:+0100
TZNAME:BST
DTSTART:20250330T010000
END:DAYLIGHT
BEGIN:STANDARD
TZOFFSETFROM:+0100
TZOFFSETTO:+0000
TZNAME:GMT
DTSTART:20251026T010000
END:STANDARD
BEGIN:DAYLIGHT
TZOFFSETFROM:+0000
TZOFFSETTO:+0100
TZNAME:BST
DTSTART:20260329T010000
END:DAYLIGHT
BEGIN:STANDARD
TZOFFSETFROM:+0100
TZOFFSETTO:+0000
TZNAME:GMT
DTSTART:20261025T010000
END:STANDARD
END:VTIMEZONE
BEGIN:VEVENT
DTSTART;TZID=Europe/London:20250424T184500
DTEND;TZID=Europe/London:20250424T200000
DTSTAMP:20260421T003613
CREATED:20240806T142617Z
LAST-MODIFIED:20240806T142617Z
UID:3457-1745520300-1745524800@orstonparish.co.uk
SUMMARY:Orston Village Choir
DESCRIPTION:
URL:https://orstonparish.co.uk/event/orston-village-choir-34
LOCATION:Thomas Cranmer Centre\, Aslockton
CATEGORIES:Regular Activities
ORGANIZER;CN="Ali Burns":MAILTO:ali.burns@yahoo.co.uk
END:VEVENT
BEGIN:VEVENT
DTSTART;TZID=Europe/London:20250424T093000
DTEND;TZID=Europe/London:20250424T103000
DTSTAMP:20260421T003613
CREATED:20240806T150723Z
LAST-MODIFIED:20240806T150723Z
UID:3639-1745487000-1745490600@orstonparish.co.uk
SUMMARY:Core Strength Pilates
DESCRIPTION:
URL:https://orstonparish.co.uk/event/core-strength-pilates-132
LOCATION:Village Hall
CATEGORIES:Regular Activities
ORGANIZER;CN="Amanda Marshall":MAILTO:corestrengthpilates@hotmail.com
END:VEVENT
BEGIN:VEVENT
DTSTART;TZID=Europe/London:20250422T200000
DTEND;TZID=Europe/London:20250422T220000
DTSTAMP:20260421T003613
CREATED:20240805T103413Z
LAST-MODIFIED:20240805T103413Z
UID:2974-1745352000-1745359200@orstonparish.co.uk
SUMMARY:Badminton Club
DESCRIPTION:
URL:https://orstonparish.co.uk/event/badminton-club-38
LOCATION:Village Hall
CATEGORIES:Regular Activities
ORGANIZER;CN="Roland Daniels":MAILTO:roland.daniels153@gmail.com
END:VEVENT
BEGIN:VEVENT
DTSTART;TZID=Europe/London:20250422T183000
DTEND;TZID=Europe/London:20250422T193000
DTSTAMP:20260421T003613
CREATED:20240806T150333Z
LAST-MODIFIED:20240806T150333Z
UID:3586-1745346600-1745350200@orstonparish.co.uk
SUMMARY:Core Strength Pilates
DESCRIPTION:
URL:https://orstonparish.co.uk/event/core-strength-pilates-85
LOCATION:Village Hall
CATEGORIES:Regular Activities
ORGANIZER;CN="Amanda Marshall":MAILTO:corestrengthpilates@hotmail.com
END:VEVENT
BEGIN:VEVENT
DTSTART;TZID=Europe/London:20250422T171500
DTEND;TZID=Europe/London:20250422T181500
DTSTAMP:20260421T003613
CREATED:20240806T145818Z
LAST-MODIFIED:20240806T145818Z
UID:3530-1745342100-1745345700@orstonparish.co.uk
SUMMARY:Core Strength Pilates
DESCRIPTION:
URL:https://orstonparish.co.uk/event/core-strength-pilates-38
LOCATION:Village Hall
CATEGORIES:Regular Activities
ORGANIZER;CN="Amanda Marshall":MAILTO:corestrengthpilates@hotmail.com
END:VEVENT
BEGIN:VEVENT
DTSTART;TZID=Europe/London:20250420T090000
DTEND;TZID=Europe/London:20250420T100000
DTSTAMP:20260421T003613
CREATED:20240805T171438Z
LAST-MODIFIED:20240805T171438Z
UID:3353-1745139600-1745143200@orstonparish.co.uk
SUMMARY:Holy Communion
DESCRIPTION:
URL:https://orstonparish.co.uk/event/holy-communion-37
LOCATION:St Mary’s Church\, Orston
CATEGORIES:Regular Activities
ORGANIZER;CN="Julian Humpheson":MAILTO:juleshum@gmail.com
END:VEVENT
BEGIN:VEVENT
DTSTART;TZID=Europe/London:20250417T193000
DTEND;TZID=Europe/London:20250417T220000
DTSTAMP:20260421T003613
CREATED:20240805T112151Z
LAST-MODIFIED:20240805T112151Z
UID:3052-1744918200-1744927200@orstonparish.co.uk
SUMMARY:Bridge
DESCRIPTION:
URL:https://orstonparish.co.uk/event/bridge-37
LOCATION:Durham Ox
CATEGORIES:Regular Activities
END:VEVENT
BEGIN:VEVENT
DTSTART;TZID=Europe/London:20250417T184500
DTEND;TZID=Europe/London:20250417T200000
DTSTAMP:20260421T003613
CREATED:20240806T142616Z
LAST-MODIFIED:20240806T142616Z
UID:3456-1744915500-1744920000@orstonparish.co.uk
SUMMARY:Orston Village Choir
DESCRIPTION:
URL:https://orstonparish.co.uk/event/orston-village-choir-33
LOCATION:Thomas Cranmer Centre\, Aslockton
CATEGORIES:Regular Activities
ORGANIZER;CN="Ali Burns":MAILTO:ali.burns@yahoo.co.uk
END:VEVENT
BEGIN:VEVENT
DTSTART;TZID=Europe/London:20250417T093000
DTEND;TZID=Europe/London:20250417T103000
DTSTAMP:20260421T003613
CREATED:20240806T150720Z
LAST-MODIFIED:20240806T150720Z
UID:3638-1744882200-1744885800@orstonparish.co.uk
SUMMARY:Core Strength Pilates
DESCRIPTION:
URL:https://orstonparish.co.uk/event/core-strength-pilates-131
LOCATION:Village Hall
CATEGORIES:Regular Activities
ORGANIZER;CN="Amanda Marshall":MAILTO:corestrengthpilates@hotmail.com
END:VEVENT
BEGIN:VEVENT
DTSTART;TZID=Europe/London:20250416T193000
DTEND;TZID=Europe/London:20250416T213000
DTSTAMP:20260421T003613
CREATED:20240805T110615Z
LAST-MODIFIED:20240805T110615Z
UID:3007-1744831800-1744839000@orstonparish.co.uk
SUMMARY:Orston Garden Club
DESCRIPTION:
URL:https://orstonparish.co.uk/event/orston-garden-club-8
LOCATION:Village Hall
CATEGORIES:Regular Activities
ORGANIZER;CN="Anne Hounslow":MAILTO:anne.hounslow@btinternet.com
END:VEVENT
BEGIN:VEVENT
DTSTART;TZID=Europe/London:20250415T200000
DTEND;TZID=Europe/London:20250415T220000
DTSTAMP:20260421T003613
CREATED:20240805T103410Z
LAST-MODIFIED:20240805T103410Z
UID:2973-1744747200-1744754400@orstonparish.co.uk
SUMMARY:Badminton Club
DESCRIPTION:
URL:https://orstonparish.co.uk/event/badminton-club-37
LOCATION:Village Hall
CATEGORIES:Regular Activities
ORGANIZER;CN="Roland Daniels":MAILTO:roland.daniels153@gmail.com
END:VEVENT
BEGIN:VEVENT
DTSTART;TZID=Europe/London:20250415T183000
DTEND;TZID=Europe/London:20250415T193000
DTSTAMP:20260421T003613
CREATED:20240806T150328Z
LAST-MODIFIED:20240806T150328Z
UID:3585-1744741800-1744745400@orstonparish.co.uk
SUMMARY:Core Strength Pilates
DESCRIPTION:
URL:https://orstonparish.co.uk/event/core-strength-pilates-84
LOCATION:Village Hall
CATEGORIES:Regular Activities
ORGANIZER;CN="Amanda Marshall":MAILTO:corestrengthpilates@hotmail.com
END:VEVENT
BEGIN:VEVENT
DTSTART;TZID=Europe/London:20250415T171500
DTEND;TZID=Europe/London:20250415T181500
DTSTAMP:20260421T003613
CREATED:20240806T145815Z
LAST-MODIFIED:20240806T145815Z
UID:3529-1744737300-1744740900@orstonparish.co.uk
SUMMARY:Core Strength Pilates
DESCRIPTION:
URL:https://orstonparish.co.uk/event/core-strength-pilates-37
LOCATION:Village Hall
CATEGORIES:Regular Activities
ORGANIZER;CN="Amanda Marshall":MAILTO:corestrengthpilates@hotmail.com
END:VEVENT
BEGIN:VEVENT
DTSTART;TZID=Europe/London:20250415T132500
DTEND;TZID=Europe/London:20250415T141000
DTSTAMP:20260421T003613
CREATED:20250217T165650Z
LAST-MODIFIED:20250217T165650Z
UID:4882-1744723500-1744726200@orstonparish.co.uk
SUMMARY:Mobile Library
DESCRIPTION:
URL:https://orstonparish.co.uk/event/mobile-library-14
LOCATION:Church Green
CATEGORIES:Regular Activities
ORGANIZER;CN="Inspire":MAILTO:southwell.library@inspireculture.org.uk
END:VEVENT
BEGIN:VEVENT
DTSTART;TZID=Europe/London:20250415T093000
DTEND;TZID=Europe/London:20250415T133000
DTSTAMP:20260421T003613
CREATED:20240806T091858Z
LAST-MODIFIED:20240806T091858Z
UID:3374-1744709400-1744723800@orstonparish.co.uk
SUMMARY:Orston Walkers
DESCRIPTION:
URL:https://orstonparish.co.uk/event/orston-walkers-17
LOCATION:Village Hall
CATEGORIES:Regular Activities
ORGANIZER;CN="Pauline Fazackerley":MAILTO:paulinefaz@live.com
END:VEVENT
BEGIN:VEVENT
DTSTART;TZID=Europe/London:20250413T090000
DTEND;TZID=Europe/London:20250413T100000
DTSTAMP:20260421T003613
CREATED:20240805T171436Z
LAST-MODIFIED:20240805T171436Z
UID:3352-1744534800-1744538400@orstonparish.co.uk
SUMMARY:Holy Communion
DESCRIPTION:
URL:https://orstonparish.co.uk/event/holy-communion-36
LOCATION:St Helena Church\, Thoroton
CATEGORIES:Regular Activities
ORGANIZER;CN="Julian Humpheson":MAILTO:juleshum@gmail.com
END:VEVENT
BEGIN:VEVENT
DTSTART;TZID=Europe/London:20250411T100000
DTEND;TZID=Europe/London:20250411T120000
DTSTAMP:20260421T003613
CREATED:20240805T165505Z
LAST-MODIFIED:20240805T165521Z
UID:3211-1744365600-1744372800@orstonparish.co.uk
SUMMARY:Coffee Morning
DESCRIPTION:
URL:https://orstonparish.co.uk/event/coffee-morning-8
LOCATION:Village Hall
CATEGORIES:Regular Activities
ORGANIZER;CN="Maria Nicholas":MAILTO:marianicho@gmail.com
END:VEVENT
BEGIN:VEVENT
DTSTART;TZID=Europe/London:20250410T193000
DTEND;TZID=Europe/London:20250410T220000
DTSTAMP:20260421T003613
CREATED:20240805T112146Z
LAST-MODIFIED:20240805T112146Z
UID:3051-1744313400-1744322400@orstonparish.co.uk
SUMMARY:Bridge
DESCRIPTION:
URL:https://orstonparish.co.uk/event/bridge-36
LOCATION:Durham Ox
CATEGORIES:Regular Activities
END:VEVENT
BEGIN:VEVENT
DTSTART;TZID=Europe/London:20250410T184500
DTEND;TZID=Europe/London:20250410T200000
DTSTAMP:20260421T003613
CREATED:20240806T142611Z
LAST-MODIFIED:20240806T142611Z
UID:3455-1744310700-1744315200@orstonparish.co.uk
SUMMARY:Orston Village Choir
DESCRIPTION:
URL:https://orstonparish.co.uk/event/orston-village-choir-32
LOCATION:Thomas Cranmer Centre\, Aslockton
CATEGORIES:Regular Activities
ORGANIZER;CN="Ali Burns":MAILTO:ali.burns@yahoo.co.uk
END:VEVENT
BEGIN:VEVENT
DTSTART;TZID=Europe/London:20250410T093000
DTEND;TZID=Europe/London:20250410T103000
DTSTAMP:20260421T003613
CREATED:20240806T150718Z
LAST-MODIFIED:20240806T150718Z
UID:3637-1744277400-1744281000@orstonparish.co.uk
SUMMARY:Core Strength Pilates
DESCRIPTION:
URL:https://orstonparish.co.uk/event/core-strength-pilates-130
LOCATION:Village Hall
CATEGORIES:Regular Activities
ORGANIZER;CN="Amanda Marshall":MAILTO:corestrengthpilates@hotmail.com
END:VEVENT
BEGIN:VEVENT
DTSTART;TZID=Europe/London:20250409T193000
DTEND;TZID=Europe/London:20250409T213000
DTSTAMP:20260421T003613
CREATED:20240805T105511Z
LAST-MODIFIED:20240805T105511Z
UID:2992-1744227000-1744234200@orstonparish.co.uk
SUMMARY:Orston and Thoroton Women's Institute
DESCRIPTION:
URL:https://orstonparish.co.uk/event/orston-and-thoroton-womens-institute-8
LOCATION:Village Hall
CATEGORIES:Regular Activities
END:VEVENT
BEGIN:VEVENT
DTSTART;TZID=Europe/London:20250408T200000
DTEND;TZID=Europe/London:20250408T220000
DTSTAMP:20260421T003613
CREATED:20240805T103408Z
LAST-MODIFIED:20240805T103408Z
UID:2972-1744142400-1744149600@orstonparish.co.uk
SUMMARY:Badminton Club
DESCRIPTION:
URL:https://orstonparish.co.uk/event/badminton-club-36
LOCATION:Village Hall
CATEGORIES:Regular Activities
ORGANIZER;CN="Roland Daniels":MAILTO:roland.daniels153@gmail.com
END:VEVENT
BEGIN:VEVENT
DTSTART;TZID=Europe/London:20250408T183000
DTEND;TZID=Europe/London:20250408T193000
DTSTAMP:20260421T003613
CREATED:20240806T150325Z
LAST-MODIFIED:20240806T150325Z
UID:3584-1744137000-1744140600@orstonparish.co.uk
SUMMARY:Core Strength Pilates
DESCRIPTION:
URL:https://orstonparish.co.uk/event/core-strength-pilates-83
LOCATION:Village Hall
CATEGORIES:Regular Activities
ORGANIZER;CN="Amanda Marshall":MAILTO:corestrengthpilates@hotmail.com
END:VEVENT
BEGIN:VEVENT
DTSTART;TZID=Europe/London:20250408T171500
DTEND;TZID=Europe/London:20250408T181500
DTSTAMP:20260421T003613
CREATED:20240806T145812Z
LAST-MODIFIED:20240806T145812Z
UID:3528-1744132500-1744136100@orstonparish.co.uk
SUMMARY:Core Strength Pilates
DESCRIPTION:
URL:https://orstonparish.co.uk/event/core-strength-pilates-36
LOCATION:Village Hall
CATEGORIES:Regular Activities
ORGANIZER;CN="Amanda Marshall":MAILTO:corestrengthpilates@hotmail.com
END:VEVENT
BEGIN:VEVENT
DTSTART;TZID=Europe/London:20250406T090000
DTEND;TZID=Europe/London:20250406T100000
DTSTAMP:20260421T003613
CREATED:20240805T171432Z
LAST-MODIFIED:20240805T171432Z
UID:3351-1743930000-1743933600@orstonparish.co.uk
SUMMARY:Holy Communion
DESCRIPTION:
URL:https://orstonparish.co.uk/event/holy-communion-35
LOCATION:St John of Beverley Church (Whatton)\, Whatton
CATEGORIES:Regular Activities
ORGANIZER;CN="Julian Humpheson":MAILTO:juleshum@gmail.com
END:VEVENT
BEGIN:VEVENT
DTSTART;TZID=Europe/London:20250403T193000
DTEND;TZID=Europe/London:20250403T220000
DTSTAMP:20260421T003613
CREATED:20240805T112140Z
LAST-MODIFIED:20240805T112140Z
UID:3050-1743708600-1743717600@orstonparish.co.uk
SUMMARY:Bridge
DESCRIPTION:
URL:https://orstonparish.co.uk/event/bridge-35
LOCATION:Durham Ox
CATEGORIES:Regular Activities
END:VEVENT
BEGIN:VEVENT
DTSTART;TZID=Europe/London:20250403T184500
DTEND;TZID=Europe/London:20250403T200000
DTSTAMP:20260421T003613
CREATED:20240806T142608Z
LAST-MODIFIED:20240806T142608Z
UID:3454-1743705900-1743710400@orstonparish.co.uk
SUMMARY:Orston Village Choir
DESCRIPTION:
URL:https://orstonparish.co.uk/event/orston-village-choir-31
LOCATION:Thomas Cranmer Centre\, Aslockton
CATEGORIES:Regular Activities
ORGANIZER;CN="Ali Burns":MAILTO:ali.burns@yahoo.co.uk
END:VEVENT
BEGIN:VEVENT
DTSTART;TZID=Europe/London:20250403T093000
DTEND;TZID=Europe/London:20250403T103000
DTSTAMP:20260421T003613
CREATED:20240806T150714Z
LAST-MODIFIED:20240806T150714Z
UID:3636-1743672600-1743676200@orstonparish.co.uk
SUMMARY:Core Strength Pilates
DESCRIPTION:
URL:https://orstonparish.co.uk/event/core-strength-pilates-129
LOCATION:Village Hall
CATEGORIES:Regular Activities
ORGANIZER;CN="Amanda Marshall":MAILTO:corestrengthpilates@hotmail.com
END:VEVENT
BEGIN:VEVENT
DTSTART;TZID=Europe/London:20250401T200000
DTEND;TZID=Europe/London:20250401T220000
DTSTAMP:20260421T003613
CREATED:20240805T103404Z
LAST-MODIFIED:20240805T103404Z
UID:2971-1743537600-1743544800@orstonparish.co.uk
SUMMARY:Badminton Club
DESCRIPTION:
URL:https://orstonparish.co.uk/event/badminton-club-35
LOCATION:Village Hall
CATEGORIES:Regular Activities
ORGANIZER;CN="Roland Daniels":MAILTO:roland.daniels153@gmail.com
END:VEVENT
BEGIN:VEVENT
DTSTART;TZID=Europe/London:20250401T183000
DTEND;TZID=Europe/London:20250401T193000
DTSTAMP:20260421T003613
CREATED:20240806T150321Z
LAST-MODIFIED:20240806T150321Z
UID:3583-1743532200-1743535800@orstonparish.co.uk
SUMMARY:Core Strength Pilates
DESCRIPTION:
URL:https://orstonparish.co.uk/event/core-strength-pilates-82
LOCATION:Village Hall
CATEGORIES:Regular Activities
ORGANIZER;CN="Amanda Marshall":MAILTO:corestrengthpilates@hotmail.com
END:VEVENT
END:VCALENDAR